BEGIN:VCALENDAR
VERSION:2.0
PRODID:-//centrumcizincu.cz - ECPv6.15.20//NONSGML v1.0//EN
CALSCALE:GREGORIAN
METHOD:PUBLISH
X-WR-CALNAME:centrumcizincu.cz
X-ORIGINAL-URL:https://centrumcizincu.cz
X-WR-CALDESC:Akce na centrumcizincu.cz
REFRESH-INTERVAL;VALUE=DURATION:PT1H
X-Robots-Tag:noindex
X-PUBLISHED-TTL:PT1H
BEGIN:VTIMEZONE
TZID:Europe/Prague
BEGIN:DAYLIGHT
TZOFFSETFROM:+0100
TZOFFSETTO:+0200
TZNAME:CEST
DTSTART:20240331T010000
END:DAYLIGHT
BEGIN:STANDARD
TZOFFSETFROM:+0200
TZOFFSETTO:+0100
TZNAME:CET
DTSTART:20241027T010000
END:STANDARD
BEGIN:DAYLIGHT
TZOFFSETFROM:+0100
TZOFFSETTO:+0200
TZNAME:CEST
DTSTART:20250330T010000
END:DAYLIGHT
BEGIN:STANDARD
TZOFFSETFROM:+0200
TZOFFSETTO:+0100
TZNAME:CET
DTSTART:20251026T010000
END:STANDARD
BEGIN:DAYLIGHT
TZOFFSETFROM:+0100
TZOFFSETTO:+0200
TZNAME:CEST
DTSTART:20260329T010000
END:DAYLIGHT
BEGIN:STANDARD
TZOFFSETFROM:+0200
TZOFFSETTO:+0100
TZNAME:CET
DTSTART:20261025T010000
END:STANDARD
END:VTIMEZONE
BEGIN:VEVENT
DTSTART;TZID=Europe/Prague:20250822T130000
DTEND;TZID=Europe/Prague:20250822T150000
DTSTAMP:20260420T160536
CREATED:20250718T083150Z
LAST-MODIFIED:20250718T085753Z
UID:46883-1755867600-1755874800@centrumcizincu.cz
SUMMARY:Dámský klub
DESCRIPTION:Centrum cizinců zve na dámský klub –lahvičky od moře. \nAkce proběhne v pátek 22.8.2025. \nSraz v 13:00 v PPI (Velká Hradební 33\, Ústí nad Labem). \n  \nV případě zájmu o akci se prosím zaregistrujte na tel. čísle 777 361 457.
URL:https://centrumcizincu.cz/akce/damsky-klub-143/
LOCATION:Poradna pro integraci Ústí nad Labem\, Velká Hradební 33\, Ústí nad Labem\, 40001\, Česká republika
CATEGORIES:AKCE,Dámský klub
ATTACH;FMTTYPE=image/png:https://centrumcizincu.cz/wp-content/uploads/2025/07/lahvicky.png
ORGANIZER;CN="Centrum cizinc%C5%AF":MAILTO:usti@centrumcizincu.cz
GEO:50.6622886;14.0419656
X-APPLE-STRUCTURED-LOCATION;VALUE=URI;X-ADDRESS=Poradna pro integraci Ústí nad Labem Velká Hradební 33 Ústí nad Labem 40001 Česká republika;X-APPLE-RADIUS=500;X-TITLE=Velká Hradební 33:geo:14.0419656,50.6622886
END:VEVENT
BEGIN:VEVENT
DTSTART;TZID=Europe/Prague:20250815T080000
DTEND;TZID=Europe/Prague:20250815T150000
DTSTAMP:20260420T160536
CREATED:20250718T082653Z
LAST-MODIFIED:20250718T085718Z
UID:46880-1755244800-1755270000@centrumcizincu.cz
SUMMARY:Dámský klub
DESCRIPTION:Centrum cizinců zve na dámský klub – výlet lodí Porta Bohemica. \nAkce proběhne v pátek 15.8. 2025. \nSraz v 8:00 v PPI (Velká Hradební 33\, Ústí nad Labem). \nS sebou: oblečení a obuv dle počasí\, svačinu a pití \nPlavba trvá cca 3h (Ústí nad Labem – Litoměřice). V Litoměřicích si prohlédneme historické centrum města. \nZPĚT pojedeme vlakem\, příjezd cca v 15:00 \n  \nV případě zájmu o akci se prosím zaregistrujte na tel. čísle 777 361 457.
URL:https://centrumcizincu.cz/akce/damsky-klub-142/
LOCATION:Poradna pro integraci Ústí nad Labem\, Velká Hradební 33\, Ústí nad Labem\, 40001\, Česká republika
CATEGORIES:AKCE,Dámský klub
ATTACH;FMTTYPE=image/jpeg:https://centrumcizincu.cz/wp-content/uploads/2020/08/lodí-do-LTM.jpg
ORGANIZER;CN="Centrum cizinc%C5%AF":MAILTO:usti@centrumcizincu.cz
GEO:50.6622886;14.0419656
X-APPLE-STRUCTURED-LOCATION;VALUE=URI;X-ADDRESS=Poradna pro integraci Ústí nad Labem Velká Hradební 33 Ústí nad Labem 40001 Česká republika;X-APPLE-RADIUS=500;X-TITLE=Velká Hradební 33:geo:14.0419656,50.6622886
END:VEVENT
BEGIN:VEVENT
DTSTART;TZID=Europe/Prague:20250725T150000
DTEND;TZID=Europe/Prague:20250725T170000
DTSTAMP:20260420T160536
CREATED:20250626T102914Z
LAST-MODIFIED:20250626T102959Z
UID:46601-1753455600-1753462800@centrumcizincu.cz
SUMMARY:Dámský klub A pánský klub
DESCRIPTION:Centrum cizinců zve ženy a pány na společný dámský a pánský klub – pétangue. \nAkce proběhne v pátek  25.7.2025 na Klíši v Ústí and Labem. \nSraz v 15:00 v PPI Ústí nad Labem\, Velká Hradební 33. \n  \nV případě zájmu o akci se prosím zaregistrujte v PPI\, Velká Hradební 33 osobně nebo na tel. čísle 777 361 457.
URL:https://centrumcizincu.cz/akce/damsky-klub-a-pansky-klub/
LOCATION:Poradna pro integraci Ústí nad Labem\, Velká Hradební 33\, Ústí nad Labem\, 40001\, Česká republika
CATEGORIES:AKCE,Dámský klub,Pánský klub
ATTACH;FMTTYPE=image/jpeg:https://centrumcizincu.cz/wp-content/uploads/2025/06/mala_786308458.jpg
ORGANIZER;CN="Centrum cizinc%C5%AF":MAILTO:usti@centrumcizincu.cz
GEO:50.6622886;14.0419656
X-APPLE-STRUCTURED-LOCATION;VALUE=URI;X-ADDRESS=Poradna pro integraci Ústí nad Labem Velká Hradební 33 Ústí nad Labem 40001 Česká republika;X-APPLE-RADIUS=500;X-TITLE=Velká Hradební 33:geo:14.0419656,50.6622886
END:VEVENT
BEGIN:VEVENT
DTSTART;TZID=Europe/Prague:20250718T130000
DTEND;TZID=Europe/Prague:20250718T150000
DTSTAMP:20260420T160536
CREATED:20250626T102707Z
LAST-MODIFIED:20250626T102707Z
UID:46599-1752843600-1752850800@centrumcizincu.cz
SUMMARY:Dámský klub
DESCRIPTION:Centrum cizinců zve ženy na dámský klub – domácí limonády. \nAkce proběhne v pátek 18.7.2025. \nSraz v 13:00 v PPI Ústí nad Labem\, Velká Hradební 33. \n  \nV případě zájmu o akci se prosím zaregistrujte v PPI\, Velká Hradební 33 osobně nebo na tel. čísle 777 361 457.
URL:https://centrumcizincu.cz/akce/damsky-klub-141/
LOCATION:Poradna pro integraci Ústí nad Labem\, Velká Hradební 33\, Ústí nad Labem\, 40001\, Česká republika
CATEGORIES:AKCE,Dámský klub
ATTACH;FMTTYPE=image/png:https://centrumcizincu.cz/wp-content/uploads/2023/06/limonada.png
ORGANIZER;CN="Centrum cizinc%C5%AF":MAILTO:usti@centrumcizincu.cz
GEO:50.6622886;14.0419656
X-APPLE-STRUCTURED-LOCATION;VALUE=URI;X-ADDRESS=Poradna pro integraci Ústí nad Labem Velká Hradební 33 Ústí nad Labem 40001 Česká republika;X-APPLE-RADIUS=500;X-TITLE=Velká Hradební 33:geo:14.0419656,50.6622886
END:VEVENT
BEGIN:VEVENT
DTSTART;TZID=Europe/Prague:20250626T130000
DTEND;TZID=Europe/Prague:20250626T150000
DTSTAMP:20260420T160536
CREATED:20250527T125303Z
LAST-MODIFIED:20250527T130608Z
UID:46216-1750942800-1750950000@centrumcizincu.cz
SUMMARY:Dámský klub
DESCRIPTION:Centrum cizinců zve ženy na dámský klub – malování květin. \nAkce proběhne ve čtvrtek 26.6.2025. \nSraz v 13:00 v PPI Ústí nad Labem\, Velká Hradební 33. \n  \nV případě zájmu o akci se prosím zaregistrujte v PPI\, Velká Hradební 33 osobně nebo na tel. čísle 777 361 457.
URL:https://centrumcizincu.cz/akce/damsky-klub-140/
LOCATION:Poradna pro integraci Ústí nad Labem\, Velká Hradební 33\, Ústí nad Labem\, 40001\, Česká republika
CATEGORIES:AKCE,Dámský klub
ATTACH;FMTTYPE=image/png:https://centrumcizincu.cz/wp-content/uploads/2025/05/malovani-kvetin.png
ORGANIZER;CN="Centrum cizinc%C5%AF":MAILTO:usti@centrumcizincu.cz
GEO:50.6622886;14.0419656
X-APPLE-STRUCTURED-LOCATION;VALUE=URI;X-ADDRESS=Poradna pro integraci Ústí nad Labem Velká Hradební 33 Ústí nad Labem 40001 Česká republika;X-APPLE-RADIUS=500;X-TITLE=Velká Hradební 33:geo:14.0419656,50.6622886
END:VEVENT
BEGIN:VEVENT
DTSTART;TZID=Europe/Prague:20250620T130000
DTEND;TZID=Europe/Prague:20250620T150000
DTSTAMP:20260420T160536
CREATED:20250527T125050Z
LAST-MODIFIED:20250527T130809Z
UID:46211-1750424400-1750431600@centrumcizincu.cz
SUMMARY:Dámský klub
DESCRIPTION:Centrum cizinců zve ženy na dámský klub – batikování tašek. \nAkce proběhne v pátek 20.6.2025. \nSraz v 13:00 v PPI Ústí nad Labem\, Velká Hradební 33. \n  \nV případě zájmu o akci se prosím zaregistrujte v PPI\, Velká Hradební 33 osobně nebo na tel. čísle 777 361 457.
URL:https://centrumcizincu.cz/akce/damsky-klub-138/
LOCATION:Poradna pro integraci Ústí nad Labem\, Velká Hradební 33\, Ústí nad Labem\, 40001\, Česká republika
CATEGORIES:AKCE,Dámský klub
ATTACH;FMTTYPE=image/png:https://centrumcizincu.cz/wp-content/uploads/2025/05/batika.png
ORGANIZER;CN="Centrum cizinc%C5%AF":MAILTO:usti@centrumcizincu.cz
GEO:50.6622886;14.0419656
X-APPLE-STRUCTURED-LOCATION;VALUE=URI;X-ADDRESS=Poradna pro integraci Ústí nad Labem Velká Hradební 33 Ústí nad Labem 40001 Česká republika;X-APPLE-RADIUS=500;X-TITLE=Velká Hradební 33:geo:14.0419656,50.6622886
END:VEVENT
BEGIN:VEVENT
DTSTART;TZID=Europe/Prague:20250613T130000
DTEND;TZID=Europe/Prague:20250613T150000
DTSTAMP:20260420T160536
CREATED:20250527T125154Z
LAST-MODIFIED:20250527T130647Z
UID:46214-1749819600-1749826800@centrumcizincu.cz
SUMMARY:Dámský klub
DESCRIPTION:Centrum cizinců zve ženy na dámský klub – dekorace z CD. \nAkce proběhne v pátek 13.6.2025. \nSraz v 13:00 v PPI Ústí nad Labem\, Velká Hradební 33. \n  \nV případě zájmu o akci se prosím zaregistrujte v PPI\, Velká Hradební 33 osobně nebo na tel. čísle 777 361 457.
URL:https://centrumcizincu.cz/akce/damsky-klub-139/
LOCATION:Poradna pro integraci Ústí nad Labem\, Velká Hradební 33\, Ústí nad Labem\, 40001\, Česká republika
CATEGORIES:AKCE,Dámský klub
ATTACH;FMTTYPE=image/png:https://centrumcizincu.cz/wp-content/uploads/2025/05/dekorace-z-CD.png
ORGANIZER;CN="Centrum cizinc%C5%AF":MAILTO:usti@centrumcizincu.cz
GEO:50.6622886;14.0419656
X-APPLE-STRUCTURED-LOCATION;VALUE=URI;X-ADDRESS=Poradna pro integraci Ústí nad Labem Velká Hradební 33 Ústí nad Labem 40001 Česká republika;X-APPLE-RADIUS=500;X-TITLE=Velká Hradební 33:geo:14.0419656,50.6622886
END:VEVENT
BEGIN:VEVENT
DTSTART;TZID=Europe/Prague:20250529T130000
DTEND;TZID=Europe/Prague:20250529T150000
DTSTAMP:20260420T160536
CREATED:20250422T091845Z
LAST-MODIFIED:20250422T094020Z
UID:45794-1748523600-1748530800@centrumcizincu.cz
SUMMARY:Dámský klub
DESCRIPTION:Centrum cizinců zve ženy na dámský klub – BINGO! \nAkce proběhne ve čtvrtek 29.5.2025. \nSraz v 13:00 v PPI Ústí nad Labem\, Velká Hradební 33. \n  \nV případě zájmu o akci se prosím zaregistrujte v PPI\, Velká Hradební 33 osobně nebo na tel. čísle 777 361 457.
URL:https://centrumcizincu.cz/akce/damsky-klub-135/
LOCATION:Poradna pro integraci Ústí nad Labem\, Velká Hradební 33\, Ústí nad Labem\, 40001\, Česká republika
CATEGORIES:AKCE,Dámský klub
ATTACH;FMTTYPE=image/webp:https://centrumcizincu.cz/wp-content/uploads/2025/04/487557_small-foot-drevena-hra-bingo-1.webp
ORGANIZER;CN="Centrum cizinc%C5%AF":MAILTO:usti@centrumcizincu.cz
GEO:50.6622886;14.0419656
X-APPLE-STRUCTURED-LOCATION;VALUE=URI;X-ADDRESS=Poradna pro integraci Ústí nad Labem Velká Hradební 33 Ústí nad Labem 40001 Česká republika;X-APPLE-RADIUS=500;X-TITLE=Velká Hradební 33:geo:14.0419656,50.6622886
END:VEVENT
BEGIN:VEVENT
DTSTART;TZID=Europe/Prague:20250523T130000
DTEND;TZID=Europe/Prague:20250523T150000
DTSTAMP:20260420T160536
CREATED:20250422T093656Z
LAST-MODIFIED:20250422T093656Z
UID:45800-1748005200-1748012400@centrumcizincu.cz
SUMMARY:Dámský klub
DESCRIPTION:Centrum cizinců zve ženy na dámský klub – pomazánky. \nAkce proběhne v pátek 23.4.2025. \nSraz v 13:00 v PPI Ústí nad Labem\, Velká Hradební 33. \n  \nV případě zájmu o akci se prosím zaregistrujte v PPI\, Velká Hradební 33 osobně nebo na tel. čísle 777 361 457.
URL:https://centrumcizincu.cz/akce/damsky-klub-137/
LOCATION:Poradna pro integraci Ústí nad Labem\, Velká Hradební 33\, Ústí nad Labem\, 40001\, Česká republika
CATEGORIES:AKCE,Dámský klub
ATTACH;FMTTYPE=image/jpeg:https://centrumcizincu.cz/wp-content/uploads/2021/08/pomaz.jpg
ORGANIZER;CN="Centrum cizinc%C5%AF":MAILTO:usti@centrumcizincu.cz
GEO:50.6622886;14.0419656
X-APPLE-STRUCTURED-LOCATION;VALUE=URI;X-ADDRESS=Poradna pro integraci Ústí nad Labem Velká Hradební 33 Ústí nad Labem 40001 Česká republika;X-APPLE-RADIUS=500;X-TITLE=Velká Hradební 33:geo:14.0419656,50.6622886
END:VEVENT
BEGIN:VEVENT
DTSTART;TZID=Europe/Prague:20250516T130000
DTEND;TZID=Europe/Prague:20250516T150000
DTSTAMP:20260420T160536
CREATED:20250422T092735Z
LAST-MODIFIED:20250422T092735Z
UID:45797-1747400400-1747407600@centrumcizincu.cz
SUMMARY:Dámský klub
DESCRIPTION:Centrum cizinců zve ženy na dámský klub – klíčenky. \nAkce proběhne v pátek 16.5.2025. \nSraz v 13:00 v PPI Ústí nad Labem\, Velká Hradební 33. \n  \nV případě zájmu o akci se prosím zaregistrujte v PPI\, Velká Hradební 33 osobně nebo na tel. čísle 777 361 457.
URL:https://centrumcizincu.cz/akce/damsky-klub-136/
LOCATION:Poradna pro integraci Ústí nad Labem\, Velká Hradební 33\, Ústí nad Labem\, 40001\, Česká republika
CATEGORIES:AKCE,Dámský klub
ATTACH;FMTTYPE=image/png:https://centrumcizincu.cz/wp-content/uploads/2025/04/klicenky.png
ORGANIZER;CN="Centrum cizinc%C5%AF":MAILTO:usti@centrumcizincu.cz
GEO:50.6622886;14.0419656
X-APPLE-STRUCTURED-LOCATION;VALUE=URI;X-ADDRESS=Poradna pro integraci Ústí nad Labem Velká Hradební 33 Ústí nad Labem 40001 Česká republika;X-APPLE-RADIUS=500;X-TITLE=Velká Hradební 33:geo:14.0419656,50.6622886
END:VEVENT
BEGIN:VEVENT
DTSTART;TZID=Europe/Prague:20250417T130000
DTEND;TZID=Europe/Prague:20250417T150000
DTSTAMP:20260420T160536
CREATED:20250325T123455Z
LAST-MODIFIED:20250327T094739Z
UID:45388-1744894800-1744902000@centrumcizincu.cz
SUMMARY:Dámský klub
DESCRIPTION:Centrum cizinců zve ženy na dámský klub – knoflíkový králíček. \nAkce proběhne ve čtvrtek 17.4.2025. \nSraz v 13:00 v PPI Ústí nad Labem\, Velká Hradební 33. \n  \nV případě zájmu o akci se prosím zaregistrujte v PPI\, Velká Hradební 33 osobně nebo na tel. čísle 777 361 457.
URL:https://centrumcizincu.cz/akce/damsky-klub-134/
LOCATION:Poradna pro integraci Ústí nad Labem\, Velká Hradební 33\, Ústí nad Labem\, 40001\, Česká republika
CATEGORIES:AKCE,Dámský klub
ATTACH;FMTTYPE=image/png:https://centrumcizincu.cz/wp-content/uploads/2025/02/kralicek.png
ORGANIZER;CN="Centrum cizinc%C5%AF":MAILTO:usti@centrumcizincu.cz
GEO:50.6622886;14.0419656
X-APPLE-STRUCTURED-LOCATION;VALUE=URI;X-ADDRESS=Poradna pro integraci Ústí nad Labem Velká Hradební 33 Ústí nad Labem 40001 Česká republika;X-APPLE-RADIUS=500;X-TITLE=Velká Hradební 33:geo:14.0419656,50.6622886
END:VEVENT
BEGIN:VEVENT
DTSTART;TZID=Europe/Prague:20250411T130000
DTEND;TZID=Europe/Prague:20250411T150000
DTSTAMP:20260420T160536
CREATED:20250325T123327Z
LAST-MODIFIED:20250327T094649Z
UID:45386-1744376400-1744383600@centrumcizincu.cz
SUMMARY:Dámský klub
DESCRIPTION:Centrum cizinců zve ženy na dámský klub – ozdobná kuchyňská prkénka. \nAkce proběhne v pátek 11.4.2025. \nSraz v 13:00 v PPI Ústí nad Labem\, Velká Hradební 33. \n  \nV případě zájmu o akci se prosím zaregistrujte v PPI\, Velká Hradební 33 osobně nebo na tel. čísle 777 361 457.
URL:https://centrumcizincu.cz/akce/damsky-klub-133/
LOCATION:Poradna pro integraci Ústí nad Labem\, Velká Hradební 33\, Ústí nad Labem\, 40001\, Česká republika
CATEGORIES:AKCE,Dámský klub
ATTACH;FMTTYPE=image/jpeg:https://centrumcizincu.cz/wp-content/uploads/2021/10/prkna.jpg
ORGANIZER;CN="Centrum cizinc%C5%AF":MAILTO:usti@centrumcizincu.cz
GEO:50.6622886;14.0419656
X-APPLE-STRUCTURED-LOCATION;VALUE=URI;X-ADDRESS=Poradna pro integraci Ústí nad Labem Velká Hradební 33 Ústí nad Labem 40001 Česká republika;X-APPLE-RADIUS=500;X-TITLE=Velká Hradební 33:geo:14.0419656,50.6622886
END:VEVENT
BEGIN:VEVENT
DTSTART;TZID=Europe/Prague:20250404T130000
DTEND;TZID=Europe/Prague:20250404T150000
DTSTAMP:20260420T160536
CREATED:20250325T123215Z
LAST-MODIFIED:20250327T094458Z
UID:45384-1743771600-1743778800@centrumcizincu.cz
SUMMARY:Dámský klub
DESCRIPTION:Centrum cizinců zve ženy na dámský klub – film (Noc na Karlštejně). \nAkce proběhne v pátek 4.4.2025. \nSraz v 13:00 v PPI Ústí nad Labem\, Velká Hradební 33. \n  \nV případě zájmu o akci se prosím zaregistrujte v PPI\, Velká Hradební 33 osobně nebo na tel. čísle 777 361 457.
URL:https://centrumcizincu.cz/akce/damsky-klub-132/
LOCATION:Poradna pro integraci Ústí nad Labem\, Velká Hradební 33\, Ústí nad Labem\, 40001\, Česká republika
CATEGORIES:AKCE,Dámský klub
ATTACH;FMTTYPE=image/png:https://centrumcizincu.cz/wp-content/uploads/2025/02/noc-na-karlstejne.png
ORGANIZER;CN="Centrum cizinc%C5%AF":MAILTO:usti@centrumcizincu.cz
GEO:50.6622886;14.0419656
X-APPLE-STRUCTURED-LOCATION;VALUE=URI;X-ADDRESS=Poradna pro integraci Ústí nad Labem Velká Hradební 33 Ústí nad Labem 40001 Česká republika;X-APPLE-RADIUS=500;X-TITLE=Velká Hradební 33:geo:14.0419656,50.6622886
END:VEVENT
END:VCALENDAR