BEGIN:VCALENDAR
VERSION:2.0
PRODID:-//centrumcizincu.cz - ECPv6.15.20//NONSGML v1.0//EN
CALSCALE:GREGORIAN
METHOD:PUBLISH
X-WR-CALNAME:centrumcizincu.cz
X-ORIGINAL-URL:https://centrumcizincu.cz
X-WR-CALDESC:Akce na centrumcizincu.cz
REFRESH-INTERVAL;VALUE=DURATION:PT1H
X-Robots-Tag:noindex
X-PUBLISHED-TTL:PT1H
BEGIN:VTIMEZONE
TZID:Europe/Prague
BEGIN:DAYLIGHT
TZOFFSETFROM:+0100
TZOFFSETTO:+0200
TZNAME:CEST
DTSTART:20250330T010000
END:DAYLIGHT
BEGIN:STANDARD
TZOFFSETFROM:+0200
TZOFFSETTO:+0100
TZNAME:CET
DTSTART:20251026T010000
END:STANDARD
BEGIN:DAYLIGHT
TZOFFSETFROM:+0100
TZOFFSETTO:+0200
TZNAME:CEST
DTSTART:20260329T010000
END:DAYLIGHT
BEGIN:STANDARD
TZOFFSETFROM:+0200
TZOFFSETTO:+0100
TZNAME:CET
DTSTART:20261025T010000
END:STANDARD
BEGIN:DAYLIGHT
TZOFFSETFROM:+0100
TZOFFSETTO:+0200
TZNAME:CEST
DTSTART:20270328T010000
END:DAYLIGHT
BEGIN:STANDARD
TZOFFSETFROM:+0200
TZOFFSETTO:+0100
TZNAME:CET
DTSTART:20271031T010000
END:STANDARD
END:VTIMEZONE
BEGIN:VEVENT
DTSTART;TZID=Europe/Prague:20260109T130000
DTEND;TZID=Europe/Prague:20260109T150000
DTSTAMP:20260420T143226
CREATED:20251215T122800Z
LAST-MODIFIED:20251215T122800Z
UID:48871-1767963600-1767970800@centrumcizincu.cz
SUMMARY:Dámský klub
DESCRIPTION:Centrum cizinců zve ženy na DÁMSKÝ KLUB – riflové andělky. \nAkce proběhne v pátek 9. 1. 2026. \nSraz v 13:00 v PPI (Velká Hradební 33\, Ústí nad Labem). \n  \nREGISTRACE JE NUTNÁ PŘEDEM!  \n– osobně v PPI (Velká Hradební 33\, Ústí nad Labem)\, nebo \n– na tel. čísle 777 361 457 \nNa akci budou pořizovány fotografie\, které mohou být použity za účelem propagace Poradny pro integraci\, z. ú..
URL:https://centrumcizincu.cz/akce/damsky-klub-155/
LOCATION:Poradna pro integraci Ústí nad Labem\, Velká Hradební 33\, Ústí nad Labem\, 40001\, Česká republika
CATEGORIES:AKCE,Dámský klub
ATTACH;FMTTYPE=image/png:https://centrumcizincu.cz/wp-content/uploads/2025/12/andelky-z-rifli.png
ORGANIZER;CN="Centrum cizinc%C5%AF":MAILTO:usti@centrumcizincu.cz
GEO:50.6622886;14.0419656
X-APPLE-STRUCTURED-LOCATION;VALUE=URI;X-ADDRESS=Poradna pro integraci Ústí nad Labem Velká Hradební 33 Ústí nad Labem 40001 Česká republika;X-APPLE-RADIUS=500;X-TITLE=Velká Hradební 33:geo:14.0419656,50.6622886
END:VEVENT
BEGIN:VEVENT
DTSTART;TZID=Europe/Prague:20260116T150000
DTEND;TZID=Europe/Prague:20260116T170000
DTSTAMP:20260420T143226
CREATED:20251215T122204Z
LAST-MODIFIED:20260126T122011Z
UID:48865-1768575600-1768582800@centrumcizincu.cz
SUMMARY:Dámský klub pro anglicky mluvící
DESCRIPTION:Akce ZRUŠENA.
URL:https://centrumcizincu.cz/akce/damsky-klub-pro-anglicky-mluvici-2/
LOCATION:Poradna pro integraci Ústí nad Labem\, Velká Hradební 33\, Ústí nad Labem\, 40001\, Česká republika
CATEGORIES:AKCE,Dámský klub
ATTACH;FMTTYPE=image/jpeg:https://centrumcizincu.cz/wp-content/uploads/2025/12/levandulovy-sacek.jpg
ORGANIZER;CN="Centrum cizinc%C5%AF":MAILTO:usti@centrumcizincu.cz
GEO:50.6622886;14.0419656
X-APPLE-STRUCTURED-LOCATION;VALUE=URI;X-ADDRESS=Poradna pro integraci Ústí nad Labem Velká Hradební 33 Ústí nad Labem 40001 Česká republika;X-APPLE-RADIUS=500;X-TITLE=Velká Hradební 33:geo:14.0419656,50.6622886
END:VEVENT
BEGIN:VEVENT
DTSTART;TZID=Europe/Prague:20260123T150000
DTEND;TZID=Europe/Prague:20260123T170000
DTSTAMP:20260420T143226
CREATED:20251215T122356Z
LAST-MODIFIED:20251215T122356Z
UID:48868-1769180400-1769187600@centrumcizincu.cz
SUMMARY:Dámský klub
DESCRIPTION:Centrum cizinců zve ženy na DÁMSKÝ KLUB – záložka do knížky. \nAkce proběhne v pátek 23. 1. 2026. \nSraz v 13:00 v PPI (Velká Hradební 33\, Ústí nad Labem). \n  \nREGISTRACE JE NUTNÁ PŘEDEM!  \n– osobně v PPI (Velká Hradební 33\, Ústí nad Labem)\, nebo \n– na tel. čísle 777 361 457 \nNa akci budou pořizovány fotografie\, které mohou být použity za účelem propagace Poradny pro integraci\, z. ú..
URL:https://centrumcizincu.cz/akce/damsky-klub-154/
LOCATION:Poradna pro integraci Ústí nad Labem\, Velká Hradební 33\, Ústí nad Labem\, 40001\, Česká republika
CATEGORIES:AKCE,Dámský klub
ATTACH;FMTTYPE=image/png:https://centrumcizincu.cz/wp-content/uploads/2025/12/zalozka.png
ORGANIZER;CN="Centrum cizinc%C5%AF":MAILTO:usti@centrumcizincu.cz
GEO:50.6622886;14.0419656
X-APPLE-STRUCTURED-LOCATION;VALUE=URI;X-ADDRESS=Poradna pro integraci Ústí nad Labem Velká Hradební 33 Ústí nad Labem 40001 Česká republika;X-APPLE-RADIUS=500;X-TITLE=Velká Hradební 33:geo:14.0419656,50.6622886
END:VEVENT
BEGIN:VEVENT
DTSTART;TZID=Europe/Prague:20260206T130000
DTEND;TZID=Europe/Prague:20260206T150000
DTSTAMP:20260420T143226
CREATED:20260127T123145Z
LAST-MODIFIED:20260127T123200Z
UID:49206-1770382800-1770390000@centrumcizincu.cz
SUMMARY:Dámský klub
DESCRIPTION:Centrum cizinců zve ženy na DÁMSKÝ KLUB – srdce z puzzlí. \nAkce proběhne v pátek 6. 2. 2026. \nSraz v 13:00 v PPI (Velká Hradební 33\, Ústí nad Labem). \n  \nREGISTRACE JE NUTNÁ PŘEDEM!  \n– osobně v PPI (Velká Hradební 33\, Ústí nad Labem)\, nebo \n– na tel. čísle 777 361 457 \nNa akci budou pořizovány fotografie\, které mohou být použity za účelem propagace Poradny pro integraci\, z. ú..
URL:https://centrumcizincu.cz/akce/damsky-klub-157/
LOCATION:Poradna pro integraci Ústí nad Labem\, Velká Hradební 33\, Ústí nad Labem\, 40001\, Česká republika
CATEGORIES:AKCE,Dámský klub
ATTACH;FMTTYPE=image/png:https://centrumcizincu.cz/wp-content/uploads/2026/01/srdce-z-puzzli.png
ORGANIZER;CN="Centrum cizinc%C5%AF":MAILTO:usti@centrumcizincu.cz
GEO:50.6622886;14.0419656
X-APPLE-STRUCTURED-LOCATION;VALUE=URI;X-ADDRESS=Poradna pro integraci Ústí nad Labem Velká Hradební 33 Ústí nad Labem 40001 Česká republika;X-APPLE-RADIUS=500;X-TITLE=Velká Hradební 33:geo:14.0419656,50.6622886
END:VEVENT
BEGIN:VEVENT
DTSTART;TZID=Europe/Prague:20260213T150000
DTEND;TZID=Europe/Prague:20260213T170000
DTSTAMP:20260420T143226
CREATED:20260127T123255Z
LAST-MODIFIED:20260127T123255Z
UID:49210-1770994800-1771002000@centrumcizincu.cz
SUMMARY:Dámský klub pro anglicky mluvící skupinu
DESCRIPTION:Centrum cizinců zve ženy na DÁMSKÝ KLUB (anglicky mluvící skupina) – srdce z puzzlí. \nAkce proběhne v pátek 13. 2. 2026. \nSraz v 15:00 v PPI (Velká Hradební 33\, Ústí nad Labem). \n  \nREGISTRACE JE NUTNÁ PŘEDEM!  \n– osobně v PPI (Velká Hradební 33\, Ústí nad Labem)\, nebo \n– na tel. čísle 777 361 457 \nNa akci budou pořizovány fotografie\, které mohou být použity za účelem propagace Poradny pro integraci\, z. ú..
URL:https://centrumcizincu.cz/akce/damsky-klub-pro-anglicky-mluvici-skupinu/
LOCATION:Poradna pro integraci Ústí nad Labem\, Velká Hradební 33\, Ústí nad Labem\, 40001\, Česká republika
CATEGORIES:AKCE,Dámský klub
ATTACH;FMTTYPE=image/png:https://centrumcizincu.cz/wp-content/uploads/2026/01/srdce-z-puzzli.png
ORGANIZER;CN="Centrum cizinc%C5%AF":MAILTO:usti@centrumcizincu.cz
GEO:50.6622886;14.0419656
X-APPLE-STRUCTURED-LOCATION;VALUE=URI;X-ADDRESS=Poradna pro integraci Ústí nad Labem Velká Hradební 33 Ústí nad Labem 40001 Česká republika;X-APPLE-RADIUS=500;X-TITLE=Velká Hradební 33:geo:14.0419656,50.6622886
END:VEVENT
BEGIN:VEVENT
DTSTART;TZID=Europe/Prague:20260220T130000
DTEND;TZID=Europe/Prague:20260220T150000
DTSTAMP:20260420T143226
CREATED:20260126T121901Z
LAST-MODIFIED:20260126T121901Z
UID:49178-1771592400-1771599600@centrumcizincu.cz
SUMMARY:Dámský klub
DESCRIPTION:Centrum cizinců zve ženy na DÁMSKÝ KLUB – vonný sáček. \nAkce proběhne v pátek 20. 2. 2026. \nSraz v 13:00 v PPI (Velká Hradební 33\, Ústí nad Labem). \n  \nREGISTRACE JE NUTNÁ PŘEDEM!  \n– osobně v PPI (Velká Hradební 33\, Ústí nad Labem)\, nebo \n– na tel. čísle 777 361 457 \nNa akci budou pořizovány fotografie\, které mohou být použity za účelem propagace Poradny pro integraci\, z. ú..
URL:https://centrumcizincu.cz/akce/damsky-klub-156/
LOCATION:Poradna pro integraci Ústí nad Labem\, Velká Hradební 33\, Ústí nad Labem\, 40001\, Česká republika
CATEGORIES:AKCE,Dámský klub
ATTACH;FMTTYPE=image/jpeg:https://centrumcizincu.cz/wp-content/uploads/2025/12/levandulovy-sacek.jpg
ORGANIZER;CN="Centrum cizinc%C5%AF":MAILTO:usti@centrumcizincu.cz
GEO:50.6622886;14.0419656
X-APPLE-STRUCTURED-LOCATION;VALUE=URI;X-ADDRESS=Poradna pro integraci Ústí nad Labem Velká Hradební 33 Ústí nad Labem 40001 Česká republika;X-APPLE-RADIUS=500;X-TITLE=Velká Hradební 33:geo:14.0419656,50.6622886
END:VEVENT
BEGIN:VEVENT
DTSTART;TZID=Europe/Prague:20260306T130000
DTEND;TZID=Europe/Prague:20260306T150000
DTSTAMP:20260420T143226
CREATED:20260223T101723Z
LAST-MODIFIED:20260223T101723Z
UID:49439-1772802000-1772809200@centrumcizincu.cz
SUMMARY:Dámský klub
DESCRIPTION:Centrum cizinců zve ženy na DÁMSKÝ KLUB – květinové brože z organzy. \nAkce proběhne v pátek 6. 3. 2026. \nSraz v 13:00 v PPI (Velká Hradební 33\, Ústí nad Labem). \n  \nREGISTRACE JE NUTNÁ PŘEDEM!  \n– osobně v PPI (Velká Hradební 33\, Ústí nad Labem)\, nebo \n– na tel. čísle 777 361 457 \nNa akci budou pořizovány fotografie\, které mohou být použity za účelem propagace Poradny pro integraci\, z. ú..
URL:https://centrumcizincu.cz/akce/damsky-klub-158/
LOCATION:Poradna pro integraci Ústí nad Labem\, Velká Hradební 33\, Ústí nad Labem\, 40001\, Česká republika
CATEGORIES:AKCE,Dámský klub
ATTACH;FMTTYPE=image/png:https://centrumcizincu.cz/wp-content/uploads/2026/02/broz-z-organzy.png
ORGANIZER;CN="Centrum cizinc%C5%AF":MAILTO:usti@centrumcizincu.cz
GEO:50.6622886;14.0419656
X-APPLE-STRUCTURED-LOCATION;VALUE=URI;X-ADDRESS=Poradna pro integraci Ústí nad Labem Velká Hradební 33 Ústí nad Labem 40001 Česká republika;X-APPLE-RADIUS=500;X-TITLE=Velká Hradební 33:geo:14.0419656,50.6622886
END:VEVENT
BEGIN:VEVENT
DTSTART;TZID=Europe/Prague:20260313T150000
DTEND;TZID=Europe/Prague:20260313T180000
DTSTAMP:20260420T143226
CREATED:20260223T101852Z
LAST-MODIFIED:20260223T101852Z
UID:49442-1773414000-1773424800@centrumcizincu.cz
SUMMARY:Dámský klub pro anglicky mluvící skupinu
DESCRIPTION:Centrum cizinců zve ženy na DÁMSKÝ KLUB pro anglicky mluvící skupinu – květinové brože z organzy. \nAkce proběhne v pátek 13. 3. 2026. \nSraz v 15:00 v PPI (Velká Hradební 33\, Ústí nad Labem). \n  \nREGISTRACE JE NUTNÁ PŘEDEM!  \n– osobně v PPI (Velká Hradební 33\, Ústí nad Labem)\, nebo \n– na tel. čísle 777 361 457 \nNa akci budou pořizovány fotografie\, které mohou být použity za účelem propagace Poradny pro integraci\, z. ú..
URL:https://centrumcizincu.cz/akce/damsky-klub-pro-anglicky-mluvici-skupinu-2/
LOCATION:Poradna pro integraci Ústí nad Labem\, Velká Hradební 33\, Ústí nad Labem\, 40001\, Česká republika
CATEGORIES:AKCE,Dámský klub
ATTACH;FMTTYPE=image/png:https://centrumcizincu.cz/wp-content/uploads/2026/02/broz-z-organzy.png
ORGANIZER;CN="Centrum cizinc%C5%AF":MAILTO:usti@centrumcizincu.cz
GEO:50.6622886;14.0419656
X-APPLE-STRUCTURED-LOCATION;VALUE=URI;X-ADDRESS=Poradna pro integraci Ústí nad Labem Velká Hradební 33 Ústí nad Labem 40001 Česká republika;X-APPLE-RADIUS=500;X-TITLE=Velká Hradební 33:geo:14.0419656,50.6622886
END:VEVENT
BEGIN:VEVENT
DTSTART;TZID=Europe/Prague:20260327T130000
DTEND;TZID=Europe/Prague:20260327T150000
DTSTAMP:20260420T143226
CREATED:20260223T102102Z
LAST-MODIFIED:20260223T102102Z
UID:49444-1774616400-1774623600@centrumcizincu.cz
SUMMARY:Dámský klub
DESCRIPTION:Centrum cizinců zve ženy na DÁMSKÝ KLUB – velikonoční vajíčka. \nAkce proběhne v pátek 27. 3. 2026. \nSraz v 13:00 v PPI (Velká Hradební 33\, Ústí nad Labem). \n  \nREGISTRACE JE NUTNÁ PŘEDEM!  \n– osobně v PPI (Velká Hradební 33\, Ústí nad Labem)\, nebo \n– na tel. čísle 777 361 457 \nNa akci budou pořizovány fotografie\, které mohou být použity za účelem propagace Poradny pro integraci\, z. ú..
URL:https://centrumcizincu.cz/akce/damsky-klub-159/
LOCATION:Poradna pro integraci Ústí nad Labem\, Velká Hradební 33\, Ústí nad Labem\, 40001\, Česká republika
CATEGORIES:AKCE,Dámský klub,Integrační aktivita
ATTACH;FMTTYPE=image/png:https://centrumcizincu.cz/wp-content/uploads/2026/02/vel.vajicka.png
ORGANIZER;CN="Centrum cizinc%C5%AF":MAILTO:usti@centrumcizincu.cz
GEO:50.6622886;14.0419656
X-APPLE-STRUCTURED-LOCATION;VALUE=URI;X-ADDRESS=Poradna pro integraci Ústí nad Labem Velká Hradební 33 Ústí nad Labem 40001 Česká republika;X-APPLE-RADIUS=500;X-TITLE=Velká Hradební 33:geo:14.0419656,50.6622886
END:VEVENT
BEGIN:VEVENT
DTSTART;TZID=Europe/Prague:20260417T130000
DTEND;TZID=Europe/Prague:20260417T150000
DTSTAMP:20260420T143226
CREATED:20260331T090706Z
LAST-MODIFIED:20260331T090706Z
UID:49700-1776430800-1776438000@centrumcizincu.cz
SUMMARY:Dámský klub
DESCRIPTION:Centrum cizinců zve ženy na DÁMSKÝ KLUB – utopenci. \nAkce proběhne v pátek 17. 4. 2026. \nSraz v 13:00 v PPI (Velká Hradební 33\, Ústí nad Labem). \n  \nREGISTRACE JE NUTNÁ PŘEDEM!  \n– osobně v PPI (Velká Hradební 33\, Ústí nad Labem)\, nebo \n– na tel. čísle 777 361 457 \nNa akci budou pořizovány fotografie\, které mohou být použity za účelem propagace Poradny pro integraci\, z. ú..
URL:https://centrumcizincu.cz/akce/damsky-klub-160/
LOCATION:Poradna pro integraci Ústí nad Labem\, Velká Hradební 33\, Ústí nad Labem\, 40001\, Česká republika
CATEGORIES:AKCE,Dámský klub
ATTACH;FMTTYPE=image/png:https://centrumcizincu.cz/wp-content/uploads/2026/03/damsky-klub.png
ORGANIZER;CN="Centrum cizinc%C5%AF":MAILTO:usti@centrumcizincu.cz
GEO:50.6622886;14.0419656
X-APPLE-STRUCTURED-LOCATION;VALUE=URI;X-ADDRESS=Poradna pro integraci Ústí nad Labem Velká Hradební 33 Ústí nad Labem 40001 Česká republika;X-APPLE-RADIUS=500;X-TITLE=Velká Hradební 33:geo:14.0419656,50.6622886
END:VEVENT
BEGIN:VEVENT
DTSTART;TZID=Europe/Prague:20260424T150000
DTEND;TZID=Europe/Prague:20260424T170000
DTSTAMP:20260420T143226
CREATED:20260331T090820Z
LAST-MODIFIED:20260331T090820Z
UID:49702-1777042800-1777050000@centrumcizincu.cz
SUMMARY:Dámský klub pro anglicky mluvící skupinu
DESCRIPTION:Centrum cizinců zve ženy na DÁMSKÝ KLUB pro anglicky mluvící skupinu – utopenci. \nAkce proběhne v pátek 24. 4. 2026. \nSraz v 15:00 v PPI (Velká Hradební 33\, Ústí nad Labem). \n  \nREGISTRACE JE NUTNÁ PŘEDEM!  \n– osobně v PPI (Velká Hradební 33\, Ústí nad Labem)\, nebo \n– na tel. čísle 777 361 457 \nNa akci budou pořizovány fotografie\, které mohou být použity za účelem propagace Poradny pro integraci\, z. ú..
URL:https://centrumcizincu.cz/akce/damsky-klub-pro-anglicky-mluvici-skupinu-3/
LOCATION:Poradna pro integraci Ústí nad Labem\, Velká Hradební 33\, Ústí nad Labem\, 40001\, Česká republika
CATEGORIES:AKCE,Dámský klub
ATTACH;FMTTYPE=image/png:https://centrumcizincu.cz/wp-content/uploads/2026/03/damsky-klub-aj.png
ORGANIZER;CN="Centrum cizinc%C5%AF":MAILTO:usti@centrumcizincu.cz
GEO:50.6622886;14.0419656
X-APPLE-STRUCTURED-LOCATION;VALUE=URI;X-ADDRESS=Poradna pro integraci Ústí nad Labem Velká Hradební 33 Ústí nad Labem 40001 Česká republika;X-APPLE-RADIUS=500;X-TITLE=Velká Hradební 33:geo:14.0419656,50.6622886
END:VEVENT
END:VCALENDAR