BEGIN:VCALENDAR
VERSION:2.0
PRODID:-//centrumcizincu.cz - ECPv6.15.20//NONSGML v1.0//EN
CALSCALE:GREGORIAN
METHOD:PUBLISH
X-ORIGINAL-URL:https://centrumcizincu.cz
X-WR-CALDESC:Akce na centrumcizincu.cz
REFRESH-INTERVAL;VALUE=DURATION:PT1H
X-Robots-Tag:noindex
X-PUBLISHED-TTL:PT1H
BEGIN:VTIMEZONE
TZID:Europe/Prague
BEGIN:DAYLIGHT
TZOFFSETFROM:+0100
TZOFFSETTO:+0200
TZNAME:CEST
DTSTART:20240331T010000
END:DAYLIGHT
BEGIN:STANDARD
TZOFFSETFROM:+0200
TZOFFSETTO:+0100
TZNAME:CET
DTSTART:20241027T010000
END:STANDARD
BEGIN:DAYLIGHT
TZOFFSETFROM:+0100
TZOFFSETTO:+0200
TZNAME:CEST
DTSTART:20250330T010000
END:DAYLIGHT
BEGIN:STANDARD
TZOFFSETFROM:+0200
TZOFFSETTO:+0100
TZNAME:CET
DTSTART:20251026T010000
END:STANDARD
BEGIN:DAYLIGHT
TZOFFSETFROM:+0100
TZOFFSETTO:+0200
TZNAME:CEST
DTSTART:20260329T010000
END:DAYLIGHT
BEGIN:STANDARD
TZOFFSETFROM:+0200
TZOFFSETTO:+0100
TZNAME:CET
DTSTART:20261025T010000
END:STANDARD
END:VTIMEZONE
BEGIN:VEVENT
DTSTART;TZID=Europe/Prague:20250725T183000
DTEND;TZID=Europe/Prague:20250725T220000
DTSTAMP:20260424T160844
CREATED:20250805T120550Z
LAST-MODIFIED:20250805T120550Z
UID:47082-1753468200-1753480800@centrumcizincu.cz
SUMMARY:Latino večer
DESCRIPTION:Centrum na podporu integrace cizinců pořádá ve spolupráci s kinem hraničář v Ústí nad Labem tradiční letní LATINO VEČER.\nAkce proběhne v pátek 25.7.2025 od 18:30 před Hraničářem.\n\nBude se hrát\, ochutnávat dobroty a hlavně tančit!\n\n\n\n\n\n\n\n\nProgram: zahraje a zatančí SANTIAGO FERREIRA (Brazílie) s kapelou / vynikající brazilský hudebník\, kytarista\, zpěvák a skladatel. Jeho hudební řeč vychází hlavně z bossa novy a pop-jazzu\, rytmické cítění přiznává vliv tradiční brazilské samby/ www.santiagoferreira.com\nDj OMS (Kuba) – Latino / Internacional\nMAILYN & MIGUEL & SANDOR – předvedou latino tance: salsa\, bachata\, merengue a zároveň vás budou učit a tančit s vámiOchutnávky – Samusa\, Mikate a další budou od Fredericka a Jeffa
URL:https://centrumcizincu.cz/akce/latino-vecer-4/
LOCATION:Poradna pro integraci Ústí nad Labem\, Velká Hradební 33\, Ústí nad Labem\, 40001\, Česká republika
CATEGORIES:AKCE,Etnický večer
ATTACH;FMTTYPE=image/jpeg:https://centrumcizincu.cz/wp-content/uploads/2022/08/latino.jpg
ORGANIZER;CN="Centrum cizinc%C5%AF":MAILTO:usti@centrumcizincu.cz
GEO:50.6622886;14.0419656
X-APPLE-STRUCTURED-LOCATION;VALUE=URI;X-ADDRESS=Poradna pro integraci Ústí nad Labem Velká Hradební 33 Ústí nad Labem 40001 Česká republika;X-APPLE-RADIUS=500;X-TITLE=Velká Hradební 33:geo:14.0419656,50.6622886
END:VEVENT
BEGIN:VEVENT
DTSTART;TZID=Europe/Prague:20250523T170000
DTEND;TZID=Europe/Prague:20250523T235900
DTSTAMP:20260424T160844
CREATED:20250610T111651Z
LAST-MODIFIED:20250610T111651Z
UID:46375-1748019600-1748044740@centrumcizincu.cz
SUMMARY:Španělský večer
DESCRIPTION:Poradna pro integraci\, z. ú. (Centrum na podporu integrace cizinců v Ústeckém kraji) pořádá ve spolupráci s Domem kultury v Ústí nad Labem\, Institutem cervantes v Praze a Palácem Akropolis ŠPANĚLSKÝ VEČER v letním kině (Ústí nad Labem). \nEtnický večer proběhne v pátek 23. 5. 2025 od 17:00. \nProgram: \n\nvýtvarné workshopy\nflamenco show\ntaneční minilekce od souboru Flamenkeria\nhudba Verde Prato z Baskicka\nfiesta s koktejly a tancem
URL:https://centrumcizincu.cz/akce/spanelsky-vecer/
LOCATION:Poradna pro integraci Ústí nad Labem\, Velká Hradební 33\, Ústí nad Labem\, 40001\, Česká republika
CATEGORIES:AKCE,Etnický večer
ATTACH;FMTTYPE=image/png:https://centrumcizincu.cz/wp-content/uploads/2025/06/flameco.png
ORGANIZER;CN="Centrum cizinc%C5%AF":MAILTO:usti@centrumcizincu.cz
GEO:50.6622886;14.0419656
X-APPLE-STRUCTURED-LOCATION;VALUE=URI;X-ADDRESS=Poradna pro integraci Ústí nad Labem Velká Hradební 33 Ústí nad Labem 40001 Česká republika;X-APPLE-RADIUS=500;X-TITLE=Velká Hradební 33:geo:14.0419656,50.6622886
END:VEVENT
END:VCALENDAR