BEGIN:VCALENDAR
VERSION:2.0
PRODID:-//centrumcizincu.cz - ECPv6.15.20//NONSGML v1.0//EN
CALSCALE:GREGORIAN
METHOD:PUBLISH
X-WR-CALNAME:centrumcizincu.cz
X-ORIGINAL-URL:https://centrumcizincu.cz
X-WR-CALDESC:Akce na centrumcizincu.cz
REFRESH-INTERVAL;VALUE=DURATION:PT1H
X-Robots-Tag:noindex
X-PUBLISHED-TTL:PT1H
BEGIN:VTIMEZONE
TZID:Europe/Prague
BEGIN:DAYLIGHT
TZOFFSETFROM:+0100
TZOFFSETTO:+0200
TZNAME:CEST
DTSTART:20240331T010000
END:DAYLIGHT
BEGIN:STANDARD
TZOFFSETFROM:+0200
TZOFFSETTO:+0100
TZNAME:CET
DTSTART:20241027T010000
END:STANDARD
BEGIN:DAYLIGHT
TZOFFSETFROM:+0100
TZOFFSETTO:+0200
TZNAME:CEST
DTSTART:20250330T010000
END:DAYLIGHT
BEGIN:STANDARD
TZOFFSETFROM:+0200
TZOFFSETTO:+0100
TZNAME:CET
DTSTART:20251026T010000
END:STANDARD
BEGIN:DAYLIGHT
TZOFFSETFROM:+0100
TZOFFSETTO:+0200
TZNAME:CEST
DTSTART:20260329T010000
END:DAYLIGHT
BEGIN:STANDARD
TZOFFSETFROM:+0200
TZOFFSETTO:+0100
TZNAME:CET
DTSTART:20261025T010000
END:STANDARD
BEGIN:DAYLIGHT
TZOFFSETFROM:+0100
TZOFFSETTO:+0200
TZNAME:CEST
DTSTART:20270328T010000
END:DAYLIGHT
BEGIN:STANDARD
TZOFFSETFROM:+0200
TZOFFSETTO:+0100
TZNAME:CET
DTSTART:20271031T010000
END:STANDARD
END:VTIMEZONE
BEGIN:VEVENT
DTSTART;TZID=Europe/Prague:20260328T080000
DTEND;TZID=Europe/Prague:20260328T140000
DTSTAMP:20260420T071648
CREATED:20260223T095748Z
LAST-MODIFIED:20260227T090510Z
UID:49437-1774684800-1774706400@centrumcizincu.cz
SUMMARY:Exkurze
DESCRIPTION:Centrum cizinců pořádá exkurzi – Velikonoce v Zubrnicích. \nAkce proběhne v sobotu 28. 3. 2026. \nSraz v 8:00 v PPI Ústí nad Labem\, Velká Hradební 33. \nS sebou: svačinu\, pití\, pohodlnou obuv a vhodné oblečení. \n  \nV případě zájmu o akci se prosím zaregistrujte v PPI\, Velká Hradební 33 osobně nebo na tel. čísle 777 361 457. \nNa akci budou pořizovány fotografie\, které mohou být použity za účelem propagace Poradny pro integraci\, z. ú..
URL:https://centrumcizincu.cz/akce/exkurze-7/
LOCATION:Poradna pro integraci Ústí nad Labem\, Velká Hradební 33\, Ústí nad Labem\, 40001\, Česká republika
CATEGORIES:AKCE,Exkurze
ATTACH;FMTTYPE=image/png:https://centrumcizincu.cz/wp-content/uploads/2021/09/zubrnice.png
ORGANIZER;CN="Centrum cizinc%C5%AF":MAILTO:usti@centrumcizincu.cz
GEO:50.6622886;14.0419656
X-APPLE-STRUCTURED-LOCATION;VALUE=URI;X-ADDRESS=Poradna pro integraci Ústí nad Labem Velká Hradební 33 Ústí nad Labem 40001 Česká republika;X-APPLE-RADIUS=500;X-TITLE=Velká Hradební 33:geo:14.0419656,50.6622886
END:VEVENT
BEGIN:VEVENT
DTSTART;TZID=Europe/Prague:20260214T100000
DTEND;TZID=Europe/Prague:20260214T130000
DTSTAMP:20260420T071648
CREATED:20260127T123010Z
LAST-MODIFIED:20260127T123010Z
UID:49203-1771063200-1771074000@centrumcizincu.cz
SUMMARY:Masopust
DESCRIPTION:Centrum cizinců zve rodiny s dětmi na MASOPUST (ÚSTECKÝ MASOPUST).. \n  \nAkce proběhne v sobotu 14.2.2026. \nSraz v 10:00 v PPI \nProgram: \n\nMasopustní průvod\nSoutěže pro děti i dospělé\nDětská dílnička\nŽivá zvířátka\n\nV případě zájmu o akci se prosím zaregistrujte v PPI\, Velká Hradební 33 osobně nebo na tel. čísle 777 361 457. \n  \nNa akci budou pořizovány fotografie\, které mohou být použity za účelem propagace Poradny pro integraci\, z. ú..
URL:https://centrumcizincu.cz/akce/masopust/
LOCATION:Poradna pro integraci Ústí nad Labem\, Velká Hradební 33\, Ústí nad Labem\, 40001\, Česká republika
CATEGORIES:AKCE,Exkurze
ATTACH;FMTTYPE=image/png:https://centrumcizincu.cz/wp-content/uploads/2026/01/masopust-2.png
ORGANIZER;CN="Centrum cizinc%C5%AF":MAILTO:usti@centrumcizincu.cz
GEO:50.6622886;14.0419656
X-APPLE-STRUCTURED-LOCATION;VALUE=URI;X-ADDRESS=Poradna pro integraci Ústí nad Labem Velká Hradební 33 Ústí nad Labem 40001 Česká republika;X-APPLE-RADIUS=500;X-TITLE=Velká Hradební 33:geo:14.0419656,50.6622886
END:VEVENT
BEGIN:VEVENT
DTSTART;TZID=Europe/Prague:20260205T084500
DTEND;TZID=Europe/Prague:20260205T120000
DTSTAMP:20260420T071648
CREATED:20260127T124305Z
LAST-MODIFIED:20260127T124325Z
UID:49215-1770281100-1770292800@centrumcizincu.cz
SUMMARY:Jump aréna v Ústí nad Labem
DESCRIPTION:Centrum cizinců zve DĚTI VE VĚKU 8 – 15 LET do JUMP ARÉNY v Ústí nad Labem \nAkce proběhne ve čtvrtek 5.2. 2026. \nSraz v 8:45 v PPI (Velká Hradební 33\, Ústí nad Labem). \n  \nV případě zájmu o akci se prosím zaregistrujte osobně v PPI\, nebo na tel. čísle: 777 361 457. \n  \nNa akci budou pořizovány fotografie\, které mohou být použity za účelem propagace Poradny pro integraci\, z. ú..
URL:https://centrumcizincu.cz/akce/49215/
LOCATION:Poradna pro integraci Ústí nad Labem\, Velká Hradební 33\, Ústí nad Labem\, 40001\, Česká republika
CATEGORIES:AKCE,Exkurze,Pro děti
ATTACH;FMTTYPE=image/webp:https://centrumcizincu.cz/wp-content/uploads/2025/07/jump-arena.webp
ORGANIZER;CN="Centrum cizinc%C5%AF":MAILTO:usti@centrumcizincu.cz
GEO:50.6622886;14.0419656
X-APPLE-STRUCTURED-LOCATION;VALUE=URI;X-ADDRESS=Poradna pro integraci Ústí nad Labem Velká Hradební 33 Ústí nad Labem 40001 Česká republika;X-APPLE-RADIUS=500;X-TITLE=Velká Hradební 33:geo:14.0419656,50.6622886
END:VEVENT
BEGIN:VEVENT
DTSTART;TZID=Europe/Prague:20251213T080000
DTEND;TZID=Europe/Prague:20251213T150000
DTSTAMP:20260420T071648
CREATED:20251124T115609Z
LAST-MODIFIED:20251124T115609Z
UID:48550-1765612800-1765638000@centrumcizincu.cz
SUMMARY:Exkurze
DESCRIPTION:Centrum cizinců zve rodiče s dětmi na exkurzi – ÚŠTĚCKÝ ADVENT (23.ročník adventních trhů v Úštěku). \nAkce proběhne v sobotu 13.12. 2025. \nSraz v 8:00 v PPI (Velká Hradební 33\, Ústí nad Labem). \nS SEBOU:\ndobrou náladu\,\npohodlné a teplé oblečení a obuv \nREGISTRACE JE NUTNÁ PŘEDEM!  \n– osobně v PPI (Velká Hradební 33\, Ústí nad Labem)\, nebo \n– na tel. čísle 777 361 457 \nNa akci budou pořizovány fotografie\, které mohou být použity za účelem propagace Poradny pro integraci\, z. ú..
URL:https://centrumcizincu.cz/akce/exkurze-6/
LOCATION:Poradna pro integraci Ústí nad Labem\, Velká Hradební 33\, Ústí nad Labem\, 40001\, Česká republika
CATEGORIES:AKCE,Exkurze
ATTACH;FMTTYPE=image/png:https://centrumcizincu.cz/wp-content/uploads/2023/11/slet-andelu.png
ORGANIZER;CN="Centrum cizinc%C5%AF":MAILTO:usti@centrumcizincu.cz
GEO:50.6622886;14.0419656
X-APPLE-STRUCTURED-LOCATION;VALUE=URI;X-ADDRESS=Poradna pro integraci Ústí nad Labem Velká Hradební 33 Ústí nad Labem 40001 Česká republika;X-APPLE-RADIUS=500;X-TITLE=Velká Hradební 33:geo:14.0419656,50.6622886
END:VEVENT
BEGIN:VEVENT
DTSTART;TZID=Europe/Prague:20250827T080000
DTEND;TZID=Europe/Prague:20250827T160000
DTSTAMP:20260420T071648
CREATED:20250718T085938Z
LAST-MODIFIED:20250718T090014Z
UID:46896-1756281600-1756310400@centrumcizincu.cz
SUMMARY:Exkurze
DESCRIPTION:Centrum cizinců zve na exkurzi do ZOOparku v Chomutově \nAkce proběhne ve středu 27.8.2025. \nSraz v 8:00 v PPI (Velká Hradební 33\, Ústí nad Labem). \nDo ZOO pojedeme vlakem. Očekávaný návrat kolem 16:00. \nS sebou: vhodné oblečení a obuv dle počasí\, pití a svačinu \n  \nV případě zájmu o akci se prosím zaregistrujte na tel. čísle 777 361 457.
URL:https://centrumcizincu.cz/akce/exkurze-5/
LOCATION:Poradna pro integraci Ústí nad Labem\, Velká Hradební 33\, Ústí nad Labem\, 40001\, Česká republika
CATEGORIES:AKCE,Exkurze
ATTACH;FMTTYPE=image/jpeg:https://centrumcizincu.cz/wp-content/uploads/2021/06/zoopark-chomutov.jpg
ORGANIZER;CN="Centrum cizinc%C5%AF":MAILTO:usti@centrumcizincu.cz
GEO:50.6622886;14.0419656
X-APPLE-STRUCTURED-LOCATION;VALUE=URI;X-ADDRESS=Poradna pro integraci Ústí nad Labem Velká Hradební 33 Ústí nad Labem 40001 Česká republika;X-APPLE-RADIUS=500;X-TITLE=Velká Hradební 33:geo:14.0419656,50.6622886
END:VEVENT
BEGIN:VEVENT
DTSTART;TZID=Europe/Prague:20250820T080000
DTEND;TZID=Europe/Prague:20250820T150000
DTSTAMP:20260420T071648
CREATED:20250718T084430Z
LAST-MODIFIED:20250718T084430Z
UID:46887-1755676800-1755702000@centrumcizincu.cz
SUMMARY:Exkurze
DESCRIPTION:Centrum cizinců zve na exkurzi – zámek Jezeří. \nAkce proběhne ve středu 20.8.2025. \nSraz v 8:00 v PPI (Velká Hradební 33\, Ústí nad Labem). \nS sebou: pohodlnou obuv\, pití a svačinu \nV případě zájmu o akci se prosím zaregistrujte na tel. čísle 777 361 457.
URL:https://centrumcizincu.cz/akce/exkurze-3/
LOCATION:Poradna pro integraci Ústí nad Labem\, Velká Hradební 33\, Ústí nad Labem\, 40001\, Česká republika
CATEGORIES:AKCE,Exkurze
ATTACH;FMTTYPE=image/jpeg:https://centrumcizincu.cz/wp-content/uploads/2019/06/zámek-Jezeří.jpg
ORGANIZER;CN="Centrum cizinc%C5%AF":MAILTO:usti@centrumcizincu.cz
GEO:50.6622886;14.0419656
X-APPLE-STRUCTURED-LOCATION;VALUE=URI;X-ADDRESS=Poradna pro integraci Ústí nad Labem Velká Hradební 33 Ústí nad Labem 40001 Česká republika;X-APPLE-RADIUS=500;X-TITLE=Velká Hradební 33:geo:14.0419656,50.6622886
END:VEVENT
BEGIN:VEVENT
DTSTART;TZID=Europe/Prague:20250816T080000
DTEND;TZID=Europe/Prague:20250816T150000
DTSTAMP:20260420T071648
CREATED:20250718T084643Z
LAST-MODIFIED:20250718T084643Z
UID:46889-1755331200-1755356400@centrumcizincu.cz
SUMMARY:Exkurze
DESCRIPTION:Centrum cizinců zve na exkurzi – historický jarmark v Úštěku \nAkce proběhne v sobotu 16.8.2025. \nSraz v 8:00 v PPI (Velká Hradební 33\, Ústí nad Labem). \nS sebou: svačinu\, pití\, vhodné oblečení a obuv podle počasí \nNa tradičním jarmarku se představí řemeslníci\, kejklíři\, loutkaři a doprovázet ho bude dobová hudba. Součástí budou také středověké hry a dílničky pro děti. \n  \nV případě zájmu o akci se prosím zaregistrujte na tel. čísle 777 361 457.
URL:https://centrumcizincu.cz/akce/exkurze-4/
LOCATION:Poradna pro integraci Ústí nad Labem\, Velká Hradební 33\, Ústí nad Labem\, 40001\, Česká republika
CATEGORIES:AKCE,Exkurze
ATTACH;FMTTYPE=image/jpeg:https://centrumcizincu.cz/wp-content/uploads/2021/06/ustek.jpg
ORGANIZER;CN="Centrum cizinc%C5%AF":MAILTO:usti@centrumcizincu.cz
GEO:50.6622886;14.0419656
X-APPLE-STRUCTURED-LOCATION;VALUE=URI;X-ADDRESS=Poradna pro integraci Ústí nad Labem Velká Hradební 33 Ústí nad Labem 40001 Česká republika;X-APPLE-RADIUS=500;X-TITLE=Velká Hradební 33:geo:14.0419656,50.6622886
END:VEVENT
BEGIN:VEVENT
DTSTART;TZID=Europe/Prague:20250711T080000
DTEND;TZID=Europe/Prague:20250711T160000
DTSTAMP:20260420T071648
CREATED:20250626T103351Z
LAST-MODIFIED:20250626T103351Z
UID:46606-1752220800-1752249600@centrumcizincu.cz
SUMMARY:Exkurze
DESCRIPTION:Centrum cizinců zve na exkurzi – výlet lodí Porta Bohemica. \nAkce proběhne v pátek 11.7. 2025. \nSraz v 8:00 v PPI (Velká Hradební 33\, Ústí nad Labem). \nS sebou: oblečení a obuv dle počasí\, svačinu a pití \nPlavba trvá cca 3h (Ústí nad Labem – Litoměřice). V Litoměřicích si prohlédneme historické centrum města. \nZPĚT pojedeme vlakem\, příjezd cca v 16:00 \n  \nV případě zájmu o akci se prosím zaregistrujte na tel. čísle 777 361 457.
URL:https://centrumcizincu.cz/akce/exkurze-2/
LOCATION:Poradna pro integraci Ústí nad Labem\, Velká Hradební 33\, Ústí nad Labem\, 40001\, Česká republika
CATEGORIES:AKCE,Exkurze
ATTACH;FMTTYPE=image/jpeg:https://centrumcizincu.cz/wp-content/uploads/2020/08/lodí-do-LTM.jpg
ORGANIZER;CN="Centrum cizinc%C5%AF":MAILTO:usti@centrumcizincu.cz
GEO:50.6622886;14.0419656
X-APPLE-STRUCTURED-LOCATION;VALUE=URI;X-ADDRESS=Poradna pro integraci Ústí nad Labem Velká Hradební 33 Ústí nad Labem 40001 Česká republika;X-APPLE-RADIUS=500;X-TITLE=Velká Hradební 33:geo:14.0419656,50.6622886
END:VEVENT
BEGIN:VEVENT
DTSTART;TZID=Europe/Prague:20250627T130000
DTEND;TZID=Europe/Prague:20250627T170000
DTSTAMP:20260420T071648
CREATED:20250527T122607Z
LAST-MODIFIED:20250527T122607Z
UID:46209-1751029200-1751043600@centrumcizincu.cz
SUMMARY:Za vysvědčení do ZOO v Ústí nad Labem
DESCRIPTION:Centrum cizinců pořádá exkurzi za vysvědčení do ZOO v Ústí nad Labem \nAkce proběhne v pátek 27.6. 2025. \nSraz v 13:00 před dolním vchodem do ZOO v Ústí nad Labem. \nS sebou vhodné oblečení\, obuv\, svačinu a pití. \n  \nV případě zájmu o akci se prosím zaregistrujte v PPI\, Velká Hradební 33 osobně nebo na tel. čísle 777 361 457.
URL:https://centrumcizincu.cz/akce/za-vysvedceni-do-zoo-v-usti-nad-labem/
LOCATION:Poradna pro integraci Ústí nad Labem\, Velká Hradební 33\, Ústí nad Labem\, 40001\, Česká republika
CATEGORIES:AKCE,Exkurze
ATTACH;FMTTYPE=image/png:https://centrumcizincu.cz/wp-content/uploads/2024/05/ZOO.png
ORGANIZER;CN="Centrum cizinc%C5%AF":MAILTO:usti@centrumcizincu.cz
GEO:50.6622886;14.0419656
X-APPLE-STRUCTURED-LOCATION;VALUE=URI;X-ADDRESS=Poradna pro integraci Ústí nad Labem Velká Hradební 33 Ústí nad Labem 40001 Česká republika;X-APPLE-RADIUS=500;X-TITLE=Velká Hradební 33:geo:14.0419656,50.6622886
END:VEVENT
BEGIN:VEVENT
DTSTART;VALUE=DATE:20250412
DTEND;VALUE=DATE:20250413
DTSTAMP:20260420T071648
CREATED:20250325T124528Z
LAST-MODIFIED:20250325T124528Z
UID:45404-1744416000-1744502399@centrumcizincu.cz
SUMMARY:Zubrnice
DESCRIPTION:Centrum cizinců zve na exkurzi do Zubrnic – Velikonoce. \nAkce proběhne v sobotu 12.4. 2025. \nSraz v 8:30 v PPI Ústí nad Labem\, Velká Hradební 33. \nS sebou: oblečení a obuv dle počasí\, svačinu a pití. \n  \nV případě zájmu o akci se prosím zaregistrujte v PPI\, Velká Hradební 33 osobně nebo na tel. čísle 777 361 457.
URL:https://centrumcizincu.cz/akce/zubrnice-5/
LOCATION:Poradna pro integraci Ústí nad Labem\, Velká Hradební 33\, Ústí nad Labem\, 40001\, Česká republika
CATEGORIES:AKCE,Exkurze
ATTACH;FMTTYPE=image/png:https://centrumcizincu.cz/wp-content/uploads/2021/09/zubrnice.png
ORGANIZER;CN="Centrum cizinc%C5%AF":MAILTO:usti@centrumcizincu.cz
GEO:50.6622886;14.0419656
X-APPLE-STRUCTURED-LOCATION;VALUE=URI;X-ADDRESS=Poradna pro integraci Ústí nad Labem Velká Hradební 33 Ústí nad Labem 40001 Česká republika;X-APPLE-RADIUS=500;X-TITLE=Velká Hradební 33:geo:14.0419656,50.6622886
END:VEVENT
END:VCALENDAR