BEGIN:VCALENDAR
VERSION:2.0
PRODID:-//centrumcizincu.cz - ECPv6.15.20//NONSGML v1.0//EN
CALSCALE:GREGORIAN
METHOD:PUBLISH
X-WR-CALNAME:centrumcizincu.cz
X-ORIGINAL-URL:https://centrumcizincu.cz
X-WR-CALDESC:Akce na centrumcizincu.cz
REFRESH-INTERVAL;VALUE=DURATION:PT1H
X-Robots-Tag:noindex
X-PUBLISHED-TTL:PT1H
BEGIN:VTIMEZONE
TZID:Europe/Prague
BEGIN:DAYLIGHT
TZOFFSETFROM:+0100
TZOFFSETTO:+0200
TZNAME:CEST
DTSTART:20240331T010000
END:DAYLIGHT
BEGIN:STANDARD
TZOFFSETFROM:+0200
TZOFFSETTO:+0100
TZNAME:CET
DTSTART:20241027T010000
END:STANDARD
BEGIN:DAYLIGHT
TZOFFSETFROM:+0100
TZOFFSETTO:+0200
TZNAME:CEST
DTSTART:20250330T010000
END:DAYLIGHT
BEGIN:STANDARD
TZOFFSETFROM:+0200
TZOFFSETTO:+0100
TZNAME:CET
DTSTART:20251026T010000
END:STANDARD
BEGIN:DAYLIGHT
TZOFFSETFROM:+0100
TZOFFSETTO:+0200
TZNAME:CEST
DTSTART:20260329T010000
END:DAYLIGHT
BEGIN:STANDARD
TZOFFSETFROM:+0200
TZOFFSETTO:+0100
TZNAME:CET
DTSTART:20261025T010000
END:STANDARD
END:VTIMEZONE
BEGIN:VEVENT
DTSTART;TZID=Europe/Prague:20250731T090000
DTEND;TZID=Europe/Prague:20250731T160000
DTSTAMP:20260421T003648
CREATED:20250626T103854Z
LAST-MODIFIED:20250626T104008Z
UID:46612-1753952400-1753977600@centrumcizincu.cz
SUMMARY:Příměstský letní tábor
DESCRIPTION:Centrum cizinců pořádá Příměstský letní tábor pro děti-cizince s výukou českého jazyka (začátečníci). \nDopoledne je pro děti připravena výuka českého jazyka. \nV odpoleních hodinách jsou pro děti připraveny volnočasové aktivity (sportovní\, herní\, vývarné\, poznávací). \nTermín: 28. 7. – 8. 8. 2025 \nČas: 9:00 – 16:00 \nMísto: Poradna pro integraci\, Velká Hradební 33\, Ústí nad Labem \nNa tábor je potřeba děti přihlásit osobně předem v PPI\, počet míst je omezen. \nPro bližší informace volejte na tel. 777 361 457.
URL:https://centrumcizincu.cz/akce/primestsky-letni-tabor-4/2025-07-31/
LOCATION:Poradna pro integraci Ústí nad Labem\, Velká Hradební 33\, Ústí nad Labem\, 40001\, Česká republika
CATEGORIES:AKCE,Integrační aktivita,Pro děti
ATTACH;FMTTYPE=image/jpeg:https://centrumcizincu.cz/wp-content/uploads/2019/06/tábor-2019.jpg
ORGANIZER;CN="Centrum cizinc%C5%AF":MAILTO:usti@centrumcizincu.cz
GEO:50.6622886;14.0419656
X-APPLE-STRUCTURED-LOCATION;VALUE=URI;X-ADDRESS=Poradna pro integraci Ústí nad Labem Velká Hradební 33 Ústí nad Labem 40001 Česká republika;X-APPLE-RADIUS=500;X-TITLE=Velká Hradební 33:geo:14.0419656,50.6622886
END:VEVENT
BEGIN:VEVENT
DTSTART;TZID=Europe/Prague:20250730T090000
DTEND;TZID=Europe/Prague:20250730T160000
DTSTAMP:20260421T003648
CREATED:20250626T103854Z
LAST-MODIFIED:20250626T104007Z
UID:46611-1753866000-1753891200@centrumcizincu.cz
SUMMARY:Příměstský letní tábor
DESCRIPTION:Centrum cizinců pořádá Příměstský letní tábor pro děti-cizince s výukou českého jazyka (začátečníci). \nDopoledne je pro děti připravena výuka českého jazyka. \nV odpoleních hodinách jsou pro děti připraveny volnočasové aktivity (sportovní\, herní\, vývarné\, poznávací). \nTermín: 28. 7. – 8. 8. 2025 \nČas: 9:00 – 16:00 \nMísto: Poradna pro integraci\, Velká Hradební 33\, Ústí nad Labem \nNa tábor je potřeba děti přihlásit osobně předem v PPI\, počet míst je omezen. \nPro bližší informace volejte na tel. 777 361 457.
URL:https://centrumcizincu.cz/akce/primestsky-letni-tabor-4/2025-07-30/
LOCATION:Poradna pro integraci Ústí nad Labem\, Velká Hradební 33\, Ústí nad Labem\, 40001\, Česká republika
CATEGORIES:AKCE,Integrační aktivita,Pro děti
ATTACH;FMTTYPE=image/jpeg:https://centrumcizincu.cz/wp-content/uploads/2019/06/tábor-2019.jpg
ORGANIZER;CN="Centrum cizinc%C5%AF":MAILTO:usti@centrumcizincu.cz
GEO:50.6622886;14.0419656
X-APPLE-STRUCTURED-LOCATION;VALUE=URI;X-ADDRESS=Poradna pro integraci Ústí nad Labem Velká Hradební 33 Ústí nad Labem 40001 Česká republika;X-APPLE-RADIUS=500;X-TITLE=Velká Hradební 33:geo:14.0419656,50.6622886
END:VEVENT
BEGIN:VEVENT
DTSTART;TZID=Europe/Prague:20250729T090000
DTEND;TZID=Europe/Prague:20250729T160000
DTSTAMP:20260421T003648
CREATED:20250626T103854Z
LAST-MODIFIED:20250626T104007Z
UID:46610-1753779600-1753804800@centrumcizincu.cz
SUMMARY:Příměstský letní tábor
DESCRIPTION:Centrum cizinců pořádá Příměstský letní tábor pro děti-cizince s výukou českého jazyka (začátečníci). \nDopoledne je pro děti připravena výuka českého jazyka. \nV odpoleních hodinách jsou pro děti připraveny volnočasové aktivity (sportovní\, herní\, vývarné\, poznávací). \nTermín: 28. 7. – 8. 8. 2025 \nČas: 9:00 – 16:00 \nMísto: Poradna pro integraci\, Velká Hradební 33\, Ústí nad Labem \nNa tábor je potřeba děti přihlásit osobně předem v PPI\, počet míst je omezen. \nPro bližší informace volejte na tel. 777 361 457.
URL:https://centrumcizincu.cz/akce/primestsky-letni-tabor-4/2025-07-29/
LOCATION:Poradna pro integraci Ústí nad Labem\, Velká Hradební 33\, Ústí nad Labem\, 40001\, Česká republika
CATEGORIES:AKCE,Integrační aktivita,Pro děti
ATTACH;FMTTYPE=image/jpeg:https://centrumcizincu.cz/wp-content/uploads/2019/06/tábor-2019.jpg
ORGANIZER;CN="Centrum cizinc%C5%AF":MAILTO:usti@centrumcizincu.cz
GEO:50.6622886;14.0419656
X-APPLE-STRUCTURED-LOCATION;VALUE=URI;X-ADDRESS=Poradna pro integraci Ústí nad Labem Velká Hradební 33 Ústí nad Labem 40001 Česká republika;X-APPLE-RADIUS=500;X-TITLE=Velká Hradební 33:geo:14.0419656,50.6622886
END:VEVENT
BEGIN:VEVENT
DTSTART;TZID=Europe/Prague:20250728T090000
DTEND;TZID=Europe/Prague:20250728T160000
DTSTAMP:20260421T003648
CREATED:20250626T103854Z
LAST-MODIFIED:20250626T104006Z
UID:46608-1753693200-1753718400@centrumcizincu.cz
SUMMARY:Příměstský letní tábor
DESCRIPTION:Centrum cizinců pořádá Příměstský letní tábor pro děti-cizince s výukou českého jazyka (začátečníci). \nDopoledne je pro děti připravena výuka českého jazyka. \nV odpoleních hodinách jsou pro děti připraveny volnočasové aktivity (sportovní\, herní\, vývarné\, poznávací). \nTermín: 28. 7. – 8. 8. 2025 \nČas: 9:00 – 16:00 \nMísto: Poradna pro integraci\, Velká Hradební 33\, Ústí nad Labem \nNa tábor je potřeba děti přihlásit osobně předem v PPI\, počet míst je omezen. \nPro bližší informace volejte na tel. 777 361 457.
URL:https://centrumcizincu.cz/akce/primestsky-letni-tabor-4/2025-07-28/
LOCATION:Poradna pro integraci Ústí nad Labem\, Velká Hradební 33\, Ústí nad Labem\, 40001\, Česká republika
CATEGORIES:AKCE,Integrační aktivita,Pro děti
ATTACH;FMTTYPE=image/jpeg:https://centrumcizincu.cz/wp-content/uploads/2019/06/tábor-2019.jpg
ORGANIZER;CN="Centrum cizinc%C5%AF":MAILTO:usti@centrumcizincu.cz
GEO:50.6622886;14.0419656
X-APPLE-STRUCTURED-LOCATION;VALUE=URI;X-ADDRESS=Poradna pro integraci Ústí nad Labem Velká Hradební 33 Ústí nad Labem 40001 Česká republika;X-APPLE-RADIUS=500;X-TITLE=Velká Hradební 33:geo:14.0419656,50.6622886
END:VEVENT
BEGIN:VEVENT
DTSTART;TZID=Europe/Prague:20250709T093000
DTEND;TZID=Europe/Prague:20250709T103000
DTSTAMP:20260421T003648
CREATED:20250626T104353Z
LAST-MODIFIED:20250626T104353Z
UID:46632-1752053400-1752057000@centrumcizincu.cz
SUMMARY:Herní dopoledne pro děti
DESCRIPTION:Centrum cizinců pořádá herní dopoledne pro děti 3-8 let. \nAkce proběhne v úterý 2.7. a 9.7.2025 od 9:30 v PPI Velká Hradební 33\, Ústí nad Labem \n  \nSOUTĚŽE\, HRY\, HLAVOLAMY\, KVÍZY \n  \nV případě zájmu o akci se prosím zaregistrujte v PPI\, Velká Hradební 33 osobně nebo na tel. čísle 777 361 457. \n 
URL:https://centrumcizincu.cz/akce/herni-dopoledne-pro-deti/2025-07-09/
LOCATION:Poradna pro integraci Ústí nad Labem\, Velká Hradební 33\, Ústí nad Labem\, 40001\, Česká republika
CATEGORIES:AKCE,Integrační aktivita
ATTACH;FMTTYPE=image/png:https://centrumcizincu.cz/wp-content/uploads/2025/02/souteze-hry.png
ORGANIZER;CN="Centrum cizinc%C5%AF":MAILTO:usti@centrumcizincu.cz
GEO:50.6622886;14.0419656
X-APPLE-STRUCTURED-LOCATION;VALUE=URI;X-ADDRESS=Poradna pro integraci Ústí nad Labem Velká Hradební 33 Ústí nad Labem 40001 Česká republika;X-APPLE-RADIUS=500;X-TITLE=Velká Hradební 33:geo:14.0419656,50.6622886
END:VEVENT
BEGIN:VEVENT
DTSTART;TZID=Europe/Prague:20250702T093000
DTEND;TZID=Europe/Prague:20250702T103000
DTSTAMP:20260421T003648
CREATED:20250626T104353Z
LAST-MODIFIED:20250626T104440Z
UID:46630-1751448600-1751452200@centrumcizincu.cz
SUMMARY:Herní dopoledne pro děti
DESCRIPTION:Centrum cizinců pořádá herní dopoledne pro děti 3-8 let. \nAkce proběhne v úterý 2.7. a 9.7.2025 od 9:30 v PPI Velká Hradební 33\, Ústí nad Labem \n  \nSOUTĚŽE\, HRY\, HLAVOLAMY\, KVÍZY \n  \nV případě zájmu o akci se prosím zaregistrujte v PPI\, Velká Hradební 33 osobně nebo na tel. čísle 777 361 457. \n 
URL:https://centrumcizincu.cz/akce/herni-dopoledne-pro-deti/2025-07-02/
LOCATION:Poradna pro integraci Ústí nad Labem\, Velká Hradební 33\, Ústí nad Labem\, 40001\, Česká republika
CATEGORIES:AKCE,Integrační aktivita
ATTACH;FMTTYPE=image/png:https://centrumcizincu.cz/wp-content/uploads/2025/02/souteze-hry.png
ORGANIZER;CN="Centrum cizinc%C5%AF":MAILTO:usti@centrumcizincu.cz
GEO:50.6622886;14.0419656
X-APPLE-STRUCTURED-LOCATION;VALUE=URI;X-ADDRESS=Poradna pro integraci Ústí nad Labem Velká Hradební 33 Ústí nad Labem 40001 Česká republika;X-APPLE-RADIUS=500;X-TITLE=Velká Hradební 33:geo:14.0419656,50.6622886
END:VEVENT
BEGIN:VEVENT
DTSTART;TZID=Europe/Prague:20250624T150000
DTEND;TZID=Europe/Prague:20250624T160000
DTSTAMP:20260421T003648
CREATED:20250527T125415Z
LAST-MODIFIED:20250527T130845Z
UID:46218-1750777200-1750780800@centrumcizincu.cz
SUMMARY:Tvořivá dílna pro děti
DESCRIPTION:Centrum cizinců zve děti na tvořivou dílnu – želva. \nAkce proběhne v úterý 24.6.2025. \nSraz v 15:00 v PPI (Velká Hradební 33\, Ústí nad Labem). \n  \nV případě zájmu o akci se prosím zaregistrujte na tel. čísle 777 361 457.
URL:https://centrumcizincu.cz/akce/tvoriva-dilna-pro-deti-27/
LOCATION:Poradna pro integraci Ústí nad Labem\, Velká Hradební 33\, Ústí nad Labem\, 40001\, Česká republika
CATEGORIES:AKCE,Integrační aktivita,Pro děti
ATTACH;FMTTYPE=image/png:https://centrumcizincu.cz/wp-content/uploads/2025/05/zelva.png
ORGANIZER;CN="Centrum cizinc%C5%AF":MAILTO:usti@centrumcizincu.cz
GEO:50.6622886;14.0419656
X-APPLE-STRUCTURED-LOCATION;VALUE=URI;X-ADDRESS=Poradna pro integraci Ústí nad Labem Velká Hradební 33 Ústí nad Labem 40001 Česká republika;X-APPLE-RADIUS=500;X-TITLE=Velká Hradební 33:geo:14.0419656,50.6622886
END:VEVENT
BEGIN:VEVENT
DTSTART;TZID=Europe/Prague:20250619T080000
DTEND;TZID=Europe/Prague:20250619T170000
DTSTAMP:20260421T003648
CREATED:20250527T125533Z
LAST-MODIFIED:20250620T083946Z
UID:46222-1750320000-1750352400@centrumcizincu.cz
SUMMARY:Tvořivá dílna pro děti
DESCRIPTION:Centrum cizinců zve děti na tvořivou dílnu – motýl. \nAkce ZRUŠENA.
URL:https://centrumcizincu.cz/akce/tvoriva-dilna-pro-deti-28/
LOCATION:Poradna pro integraci Ústí nad Labem\, Velká Hradební 33\, Ústí nad Labem\, 40001\, Česká republika
CATEGORIES:AKCE,Integrační aktivita,Pro děti
ATTACH;FMTTYPE=image/png:https://centrumcizincu.cz/wp-content/uploads/2025/05/motyl.png
ORGANIZER;CN="Centrum cizinc%C5%AF":MAILTO:usti@centrumcizincu.cz
GEO:50.6622886;14.0419656
X-APPLE-STRUCTURED-LOCATION;VALUE=URI;X-ADDRESS=Poradna pro integraci Ústí nad Labem Velká Hradební 33 Ústí nad Labem 40001 Česká republika;X-APPLE-RADIUS=500;X-TITLE=Velká Hradební 33:geo:14.0419656,50.6622886
END:VEVENT
BEGIN:VEVENT
DTSTART;TZID=Europe/Prague:20250430T160000
DTEND;TZID=Europe/Prague:20250430T180000
DTSTAMP:20260421T003648
CREATED:20250325T124723Z
LAST-MODIFIED:20250325T124723Z
UID:45406-1746028800-1746036000@centrumcizincu.cz
SUMMARY:Pálení čarodějnic
DESCRIPTION:Centrum cizinců zve děti a jejich rodiče na PÁLENÍ ČARODĚJNIC v parku na Severní Terase (Ústí nad Labem). \nAkce proběhne ve středu 30.4.2025. \nSraz v PPI (Velká Hradební 33\, ÚnL) v 16:00. \nS sebou: vhodné oblečení a obuv dle počasí\, pití. \nProgram:soutěže pro děti\, čarodějnická diskotéka\, volba Miss čarodějnice\, živá hudba i ohňostroj \nV případě Vašeho zájmu o akci se registrujte předem. Kontaktujte prosím pracovníky osobně nebo na tel. čísle:  777 361 457.
URL:https://centrumcizincu.cz/akce/paleni-carodejnic-3/
LOCATION:Poradna pro integraci Ústí nad Labem\, Velká Hradební 33\, Ústí nad Labem\, 40001\, Česká republika
CATEGORIES:AKCE,Integrační aktivita
ATTACH;FMTTYPE=image/png:https://centrumcizincu.cz/wp-content/uploads/2023/04/carodejnice.png
ORGANIZER;CN="Centrum cizinc%C5%AF":MAILTO:usti@centrumcizincu.cz
GEO:50.6622886;14.0419656
X-APPLE-STRUCTURED-LOCATION;VALUE=URI;X-ADDRESS=Poradna pro integraci Ústí nad Labem Velká Hradební 33 Ústí nad Labem 40001 Česká republika;X-APPLE-RADIUS=500;X-TITLE=Velká Hradební 33:geo:14.0419656,50.6622886
END:VEVENT
BEGIN:VEVENT
DTSTART;TZID=Europe/Prague:20250416T150000
DTEND;TZID=Europe/Prague:20250416T173000
DTSTAMP:20260421T003648
CREATED:20250325T123703Z
LAST-MODIFIED:20250325T123703Z
UID:45390-1744815600-1744824600@centrumcizincu.cz
SUMMARY:Velikonoce v PPI
DESCRIPTION:Centrum cizinců zve na Velikonoce v PPI. \nAkce proběhne ve středu 16.4.2024. \nOd 15:00 v PPI Ústí nad Labem\, Velká Hradební 33. \nProgram: \n\nPletení pomlázek\nPříprava tradičních receptů\nOchutnávka beránka a mazance\nBarvení vajíček\n\n  \nV případě zájmu o akci se prosím zaregistrujte v PPI\, Velká Hradební 33 osobně nebo na tel. čísle 777 361 457. \n 
URL:https://centrumcizincu.cz/akce/velikonoce-v-ppi-3/
LOCATION:Poradna pro integraci Ústí nad Labem\, Velká Hradební 33\, Ústí nad Labem\, 40001\, Česká republika
CATEGORIES:AKCE,Integrační aktivita
ATTACH;FMTTYPE=image/jpeg:https://centrumcizincu.cz/wp-content/uploads/2023/03/velikonce.jpg
ORGANIZER;CN="Centrum cizinc%C5%AF":MAILTO:usti@centrumcizincu.cz
GEO:50.6622886;14.0419656
X-APPLE-STRUCTURED-LOCATION;VALUE=URI;X-ADDRESS=Poradna pro integraci Ústí nad Labem Velká Hradební 33 Ústí nad Labem 40001 Česká republika;X-APPLE-RADIUS=500;X-TITLE=Velká Hradební 33:geo:14.0419656,50.6622886
END:VEVENT
END:VCALENDAR