BEGIN:VCALENDAR
VERSION:2.0
PRODID:-//centrumcizincu.cz - ECPv6.15.20//NONSGML v1.0//EN
CALSCALE:GREGORIAN
METHOD:PUBLISH
X-WR-CALNAME:centrumcizincu.cz
X-ORIGINAL-URL:https://centrumcizincu.cz
X-WR-CALDESC:Akce na centrumcizincu.cz
REFRESH-INTERVAL;VALUE=DURATION:PT1H
X-Robots-Tag:noindex
X-PUBLISHED-TTL:PT1H
BEGIN:VTIMEZONE
TZID:Europe/Prague
BEGIN:DAYLIGHT
TZOFFSETFROM:+0100
TZOFFSETTO:+0200
TZNAME:CEST
DTSTART:20250330T010000
END:DAYLIGHT
BEGIN:STANDARD
TZOFFSETFROM:+0200
TZOFFSETTO:+0100
TZNAME:CET
DTSTART:20251026T010000
END:STANDARD
BEGIN:DAYLIGHT
TZOFFSETFROM:+0100
TZOFFSETTO:+0200
TZNAME:CEST
DTSTART:20260329T010000
END:DAYLIGHT
BEGIN:STANDARD
TZOFFSETFROM:+0200
TZOFFSETTO:+0100
TZNAME:CET
DTSTART:20261025T010000
END:STANDARD
BEGIN:DAYLIGHT
TZOFFSETFROM:+0100
TZOFFSETTO:+0200
TZNAME:CEST
DTSTART:20270328T010000
END:DAYLIGHT
BEGIN:STANDARD
TZOFFSETFROM:+0200
TZOFFSETTO:+0100
TZNAME:CET
DTSTART:20271031T010000
END:STANDARD
END:VTIMEZONE
BEGIN:VEVENT
DTSTART;TZID=Europe/Prague:20260113T163000
DTEND;TZID=Europe/Prague:20260113T173000
DTSTAMP:20260420T135453
CREATED:20260106T093157Z
LAST-MODIFIED:20260106T093226Z
UID:49026-1768321800-1768325400@centrumcizincu.cz
SUMMARY:Kurz socio-kulturní orientace
DESCRIPTION:Centrum cizinců zve rodiče budoucích prvňáčků na kurz socio-kulturní orinetace. \nTéma: Zápis do 1. třídy (základní škola) \nTermín: úterý 13. 1. 2026 \nČas: od 16:30 \nMísto konání: PPI Teplice\, Masarykova třída 915/31 \nRegistrace: \n\nTel.č.: +420 730 158 289\nE-mail: marketa.pragerova@p-p-i.cz\n\n  \nNa akci budou pořizovány fotografie\, které mohou být použity za účelem propagace Poradny pro integraci\, z. ú..
URL:https://centrumcizincu.cz/akce/kurz-socio-kulturni-orientace-4/
LOCATION:Poradna pro integraci Teplice\, Masarykova třída 915/31\, Teplice\, Ústecký\, 415 01\, Česká republika
CATEGORIES:AKCE,Kurzy socio-kulturní orientace
ATTACH;FMTTYPE=image/png:https://centrumcizincu.cz/wp-content/uploads/2025/03/KORNOUT.png
ORGANIZER;CN="Centrum cizinc%C5%AF":MAILTO:usti@centrumcizincu.cz
END:VEVENT
BEGIN:VEVENT
DTSTART;TZID=Europe/Prague:20260119T163000
DTEND;TZID=Europe/Prague:20260119T180000
DTSTAMP:20260420T135453
CREATED:20260108T114958Z
LAST-MODIFIED:20260108T114958Z
UID:49041-1768840200-1768845600@centrumcizincu.cz
SUMMARY:Kurz socio-kulturní orientace
DESCRIPTION:Centrum cizinců zve na kurz socio-kulturní orinetace. \nTéma: Maturita v České republice \nTermín: pondělí 19. 1. 2026 \nČas: od 16:30 \nMísto konání: PPI Ústí nad Labem\, Velká Hradební 33 \nRegistrace: \n\nTel.č.: +420 730 158 289\nE-mail: marketa.pragerova@p-p-i.cz\n\n  \nNa akci budou pořizovány fotografie\, které mohou být použity za účelem propagace Poradny pro integraci\, z. ú..
URL:https://centrumcizincu.cz/akce/kurz-socio-kulturni-orientace-5/
LOCATION:Poradna pro integraci Ústí nad Labem\, Velká Hradební 33\, Ústí nad Labem\, 40001\, Česká republika
CATEGORIES:AKCE,Kurzy socio-kulturní orientace
ATTACH;FMTTYPE=image/webp:https://centrumcizincu.cz/wp-content/uploads/2026/01/maturita.webp
ORGANIZER;CN="Centrum cizinc%C5%AF":MAILTO:usti@centrumcizincu.cz
GEO:50.6622886;14.0419656
X-APPLE-STRUCTURED-LOCATION;VALUE=URI;X-ADDRESS=Poradna pro integraci Ústí nad Labem Velká Hradební 33 Ústí nad Labem 40001 Česká republika;X-APPLE-RADIUS=500;X-TITLE=Velká Hradební 33:geo:14.0419656,50.6622886
END:VEVENT
BEGIN:VEVENT
DTSTART;TZID=Europe/Prague:20260129T170000
DTEND;TZID=Europe/Prague:20260129T183000
DTSTAMP:20260420T135453
CREATED:20260126T115133Z
LAST-MODIFIED:20260126T115133Z
UID:49159-1769706000-1769711400@centrumcizincu.cz
SUMMARY:Kurz socio-kulturní orientace
DESCRIPTION:Centrum cizinců zve na kurz socio-kulturní orientace. \nTéma: Přihlášky na střední školu \nTermín: čtvrtek 29. 1. 2026 \nČas: od 17:00 \nMísto konání: PPI Most\, Vítězslava Nezvala 2696/11 \nProgram: \n\nvýběr střední školy\npodání přihlášky\nprůběh přijímacího řízení\n\nRegistrace: \n\nhttps://docs.google.com/forms/d/e/1FAIpQLSf8vHU-gL2E3CIJhAl5HY81V0DIbnv6hKxPc41_mZxkqsTdWQ/viewform?usp=send_form\nMunkhtsetseg Zembii-Yondon (+420 778 454 083)\n\n  \nNa akci budou pořizovány fotografie\, které mohou být použity za účelem propagace Poradny pro integraci\, z. ú..
URL:https://centrumcizincu.cz/akce/kurz-socio-kulturni-orientace-7/
LOCATION:Poradna pro integraci Most\, Vítězslava Nezvala 2696/11\, Most\, Česká republika
CATEGORIES:AKCE,Kurzy socio-kulturní orientace
ORGANIZER;CN="Centrum cizinc%C5%AF":MAILTO:usti@centrumcizincu.cz
END:VEVENT
END:VCALENDAR