BEGIN:VCALENDAR
VERSION:2.0
PRODID:-//centrumcizincu.cz - ECPv6.15.20//NONSGML v1.0//EN
CALSCALE:GREGORIAN
METHOD:PUBLISH
X-ORIGINAL-URL:https://centrumcizincu.cz
X-WR-CALDESC:Akce na centrumcizincu.cz
REFRESH-INTERVAL;VALUE=DURATION:PT1H
X-Robots-Tag:noindex
X-PUBLISHED-TTL:PT1H
BEGIN:VTIMEZONE
TZID:Europe/Prague
BEGIN:DAYLIGHT
TZOFFSETFROM:+0100
TZOFFSETTO:+0200
TZNAME:CEST
DTSTART:20250330T010000
END:DAYLIGHT
BEGIN:STANDARD
TZOFFSETFROM:+0200
TZOFFSETTO:+0100
TZNAME:CET
DTSTART:20251026T010000
END:STANDARD
BEGIN:DAYLIGHT
TZOFFSETFROM:+0100
TZOFFSETTO:+0200
TZNAME:CEST
DTSTART:20260329T010000
END:DAYLIGHT
BEGIN:STANDARD
TZOFFSETFROM:+0200
TZOFFSETTO:+0100
TZNAME:CET
DTSTART:20261025T010000
END:STANDARD
BEGIN:DAYLIGHT
TZOFFSETFROM:+0100
TZOFFSETTO:+0200
TZNAME:CEST
DTSTART:20270328T010000
END:DAYLIGHT
BEGIN:STANDARD
TZOFFSETFROM:+0200
TZOFFSETTO:+0100
TZNAME:CET
DTSTART:20271031T010000
END:STANDARD
END:VTIMEZONE
BEGIN:VEVENT
DTSTART;TZID=Europe/Prague:20260202T170000
DTEND;TZID=Europe/Prague:20260202T183000
DTSTAMP:20260420T123323
CREATED:20260126T114629Z
LAST-MODIFIED:20260126T115218Z
UID:49157-1770051600-1770057000@centrumcizincu.cz
SUMMARY:Kurz socio-kulturní orientace
DESCRIPTION:Centrum cizinců zve na kurz socio-kulturní orientace. \nTéma: Přihlášky na střední školu \nTermín: pondělí 2. 2. 2026 \nČas: od 17:00 \nMísto konání: PPI Ústí nad Labem\, Velká Hradební 33 \nProgram: \n\nvýběr střední školy\npodání přihlášky\nprůběh přijímacího řízení\n\nRegistrace: \n\nTel.č.: +420 730 158 289\nE-mail: marketa.pragerova@p-p-i.cz\n\n  \nNa akci budou pořizovány fotografie\, které mohou být použity za účelem propagace Poradny pro integraci\, z. ú..
URL:https://centrumcizincu.cz/akce/kurz-socio-kulturni-orientace-6/
LOCATION:Poradna pro integraci Ústí nad Labem\, Velká Hradební 33\, Ústí nad Labem\, 40001\, Česká republika
CATEGORIES:AKCE,Kurzy socio-kulturní orientace
ORGANIZER;CN="Centrum cizinc%C5%AF":MAILTO:usti@centrumcizincu.cz
GEO:50.6622886;14.0419656
X-APPLE-STRUCTURED-LOCATION;VALUE=URI;X-ADDRESS=Poradna pro integraci Ústí nad Labem Velká Hradební 33 Ústí nad Labem 40001 Česká republika;X-APPLE-RADIUS=500;X-TITLE=Velká Hradební 33:geo:14.0419656,50.6622886
END:VEVENT
BEGIN:VEVENT
DTSTART;TZID=Europe/Prague:20260210T170000
DTEND;TZID=Europe/Prague:20260210T183000
DTSTAMP:20260420T123323
CREATED:20260203T135503Z
LAST-MODIFIED:20260210T085955Z
UID:49267-1770742800-1770748200@centrumcizincu.cz
SUMMARY:Kurz socio-kulturní orientace
DESCRIPTION:AKCE JE ZRUŠENA ! \n  \n  \nCentrum cizinců zve na kurz socio-kulturní orientace. \nTéma: Daňové přiznání \n\nportál Moje daně\ndokumenty\, které pro daňové přiznání potřebujete\n7 – příjmy z podnikání (OSVČ)\nprostor pro dotazy\n\nTermín: úterý 10. 2. 2026 \nČas: od 17:00 \nMísto konání: PPI Teplice\, Masarykova třída 915/31 \nTlumočení: do ruštiny \nNa akci budou pořizovány fotografie\, které mohou být použity za účelem propagace Poradny pro integraci\, z. ú..
URL:https://centrumcizincu.cz/akce/kurz-socio-kulturni-orientace-9/
LOCATION:Poradna pro integraci Teplice\, Masarykova třída 915/31\, Teplice\, Ústecký\, 415 01\, Česká republika
CATEGORIES:AKCE,Kurzy socio-kulturní orientace
ATTACH;FMTTYPE=image/png:https://centrumcizincu.cz/wp-content/uploads/2025/01/dane.png
ORGANIZER;CN="Centrum cizinc%C5%AF":MAILTO:usti@centrumcizincu.cz
END:VEVENT
BEGIN:VEVENT
DTSTART;TZID=Europe/Prague:20260210T170000
DTEND;TZID=Europe/Prague:20260210T190000
DTSTAMP:20260420T123323
CREATED:20260209T093621Z
LAST-MODIFIED:20260210T090031Z
UID:49299-1770742800-1770750000@centrumcizincu.cz
SUMMARY:Kurz socio-kulturní orientace
DESCRIPTION:AKCE JE ZRUŠENA! \n  \n  \n  \nCentrum cizinců zve na kurz socio-kulturní orientace. \nTéma: Přihlášky na střední školu \nTermín: úterý 10. 2. 2026 \nČas: od 17:00 \nMísto konání: PPI Chomutov\, Jiráskova 5338 \nProgram: \n\nvýběr střední školy\npodání přihlášky\nprůběh přijímacího řízení\n\nRegistrace: \n\nTel.č.: +420 730 158 289\nE-mail: marketa.pragerova@p-p-i.cz\n\n  \nNa akci budou pořizovány fotografie\, které mohou být použity za účelem propagace Poradny pro integraci\, z. ú..
URL:https://centrumcizincu.cz/akce/kurz-socio-kulturni-orientace-10/
LOCATION:Poradna pro integraci Chomutov\, Jiráskova 5338
CATEGORIES:AKCE,Kurzy socio-kulturní orientace
ORGANIZER;CN="Centrum cizinc%C5%AF":MAILTO:usti@centrumcizincu.cz
END:VEVENT
BEGIN:VEVENT
DTSTART;TZID=Europe/Prague:20260211T170000
DTEND;TZID=Europe/Prague:20260211T190000
DTSTAMP:20260420T123323
CREATED:20260209T093739Z
LAST-MODIFIED:20260210T203149Z
UID:49301-1770829200-1770836400@centrumcizincu.cz
SUMMARY:Kurz socio-kulturní orientace
DESCRIPTION:  \nAKCE JE ZRUŠENA! \n  \n  \nCentrum cizinců zve na kurz socio-kulturní orientace. \nTéma: Přihlášky na střední školu \nTermín: středa 11. 2. 2026 \nČas: od 17:00 \nMísto konání: PPI Teplice \nProgram: \n\nvýběr střední školy\npodání přihlášky\nprůběh přijímacího řízení\n\nRegistrace: \n\nTel.č.: +420 730 158 289\nE-mail: marketa.pragerova@p-p-i.cz\n\n  \nNa akci budou pořizovány fotografie\, které mohou být použity za účelem propagace Poradny pro integraci\, z. ú..
URL:https://centrumcizincu.cz/akce/kurz-socio-kulturni-orientace-11/
LOCATION:Poradna pro integraci Teplice\, Masarykova třída 915/31\, Teplice\, Ústecký\, 415 01\, Česká republika
CATEGORIES:AKCE,Kurzy socio-kulturní orientace
ORGANIZER;CN="Centrum cizinc%C5%AF":MAILTO:usti@centrumcizincu.cz
END:VEVENT
BEGIN:VEVENT
DTSTART;TZID=Europe/Prague:20260212T170000
DTEND;TZID=Europe/Prague:20260212T183000
DTSTAMP:20260420T123323
CREATED:20260203T135330Z
LAST-MODIFIED:20260203T135330Z
UID:49265-1770915600-1770921000@centrumcizincu.cz
SUMMARY:Kurz socio-kulturní orientace
DESCRIPTION:Centrum cizinců zve na kurz socio-kulturní orientace. \nTéma: Daňové přiznání \n\nportál Moje daně\ndokumenty\, které pro daňové přiznání potřebujete\n7 – příjmy z podnikání (OSVČ)\nprostor pro dotazy\n\nTermín: čtvrtek 12. 2. 2026 \nČas: od 17:00 \nMísto konání: PPI Ústí nad Labem\, Velká Hradební 33 \nTlumočení: do ruštiny \nNa akci budou pořizovány fotografie\, které mohou být použity za účelem propagace Poradny pro integraci\, z. ú..
URL:https://centrumcizincu.cz/akce/kurz-socio-kulturni-orientace-8/
LOCATION:Poradna pro integraci Ústí nad Labem\, Velká Hradební 33\, Ústí nad Labem\, 40001\, Česká republika
CATEGORIES:AKCE,Kurzy socio-kulturní orientace
ATTACH;FMTTYPE=image/png:https://centrumcizincu.cz/wp-content/uploads/2025/01/dane.png
ORGANIZER;CN="Centrum cizinc%C5%AF":MAILTO:usti@centrumcizincu.cz
GEO:50.6622886;14.0419656
X-APPLE-STRUCTURED-LOCATION;VALUE=URI;X-ADDRESS=Poradna pro integraci Ústí nad Labem Velká Hradební 33 Ústí nad Labem 40001 Česká republika;X-APPLE-RADIUS=500;X-TITLE=Velká Hradební 33:geo:14.0419656,50.6622886
END:VEVENT
END:VCALENDAR