BEGIN:VCALENDAR
VERSION:2.0
PRODID:-//centrumcizincu.cz - ECPv6.15.20//NONSGML v1.0//EN
CALSCALE:GREGORIAN
METHOD:PUBLISH
X-WR-CALNAME:centrumcizincu.cz
X-ORIGINAL-URL:https://centrumcizincu.cz
X-WR-CALDESC:Akce na centrumcizincu.cz
REFRESH-INTERVAL;VALUE=DURATION:PT1H
X-Robots-Tag:noindex
X-PUBLISHED-TTL:PT1H
BEGIN:VTIMEZONE
TZID:Europe/Prague
BEGIN:DAYLIGHT
TZOFFSETFROM:+0100
TZOFFSETTO:+0200
TZNAME:CEST
DTSTART:20240331T010000
END:DAYLIGHT
BEGIN:STANDARD
TZOFFSETFROM:+0200
TZOFFSETTO:+0100
TZNAME:CET
DTSTART:20241027T010000
END:STANDARD
BEGIN:DAYLIGHT
TZOFFSETFROM:+0100
TZOFFSETTO:+0200
TZNAME:CEST
DTSTART:20250330T010000
END:DAYLIGHT
BEGIN:STANDARD
TZOFFSETFROM:+0200
TZOFFSETTO:+0100
TZNAME:CET
DTSTART:20251026T010000
END:STANDARD
BEGIN:DAYLIGHT
TZOFFSETFROM:+0100
TZOFFSETTO:+0200
TZNAME:CEST
DTSTART:20260329T010000
END:DAYLIGHT
BEGIN:STANDARD
TZOFFSETFROM:+0200
TZOFFSETTO:+0100
TZNAME:CET
DTSTART:20261025T010000
END:STANDARD
END:VTIMEZONE
BEGIN:VEVENT
DTSTART;TZID=Europe/Prague:20250801T090000
DTEND;TZID=Europe/Prague:20250801T160000
DTSTAMP:20260420T200732
CREATED:20250626T103854Z
LAST-MODIFIED:20250626T104008Z
UID:46613-1754038800-1754064000@centrumcizincu.cz
SUMMARY:Příměstský letní tábor
DESCRIPTION:Centrum cizinců pořádá Příměstský letní tábor pro děti-cizince s výukou českého jazyka (začátečníci). \nDopoledne je pro děti připravena výuka českého jazyka. \nV odpoleních hodinách jsou pro děti připraveny volnočasové aktivity (sportovní\, herní\, vývarné\, poznávací). \nTermín: 28. 7. – 8. 8. 2025 \nČas: 9:00 – 16:00 \nMísto: Poradna pro integraci\, Velká Hradební 33\, Ústí nad Labem \nNa tábor je potřeba děti přihlásit osobně předem v PPI\, počet míst je omezen. \nPro bližší informace volejte na tel. 777 361 457.
URL:https://centrumcizincu.cz/akce/primestsky-letni-tabor-4/2025-08-01/
LOCATION:Poradna pro integraci Ústí nad Labem\, Velká Hradební 33\, Ústí nad Labem\, 40001\, Česká republika
CATEGORIES:AKCE,Integrační aktivita,Pro děti
ATTACH;FMTTYPE=image/jpeg:https://centrumcizincu.cz/wp-content/uploads/2019/06/tábor-2019.jpg
ORGANIZER;CN="Centrum cizinc%C5%AF":MAILTO:usti@centrumcizincu.cz
GEO:50.6622886;14.0419656
X-APPLE-STRUCTURED-LOCATION;VALUE=URI;X-ADDRESS=Poradna pro integraci Ústí nad Labem Velká Hradební 33 Ústí nad Labem 40001 Česká republika;X-APPLE-RADIUS=500;X-TITLE=Velká Hradební 33:geo:14.0419656,50.6622886
END:VEVENT
BEGIN:VEVENT
DTSTART;TZID=Europe/Prague:20250804T090000
DTEND;TZID=Europe/Prague:20250804T160000
DTSTAMP:20260420T200732
CREATED:20250626T103854Z
LAST-MODIFIED:20250626T104008Z
UID:46616-1754298000-1754323200@centrumcizincu.cz
SUMMARY:Příměstský letní tábor
DESCRIPTION:Centrum cizinců pořádá Příměstský letní tábor pro děti-cizince s výukou českého jazyka (začátečníci). \nDopoledne je pro děti připravena výuka českého jazyka. \nV odpoleních hodinách jsou pro děti připraveny volnočasové aktivity (sportovní\, herní\, vývarné\, poznávací). \nTermín: 28. 7. – 8. 8. 2025 \nČas: 9:00 – 16:00 \nMísto: Poradna pro integraci\, Velká Hradební 33\, Ústí nad Labem \nNa tábor je potřeba děti přihlásit osobně předem v PPI\, počet míst je omezen. \nPro bližší informace volejte na tel. 777 361 457.
URL:https://centrumcizincu.cz/akce/primestsky-letni-tabor-4/2025-08-04/
LOCATION:Poradna pro integraci Ústí nad Labem\, Velká Hradební 33\, Ústí nad Labem\, 40001\, Česká republika
CATEGORIES:AKCE,Integrační aktivita,Pro děti
ATTACH;FMTTYPE=image/jpeg:https://centrumcizincu.cz/wp-content/uploads/2019/06/tábor-2019.jpg
ORGANIZER;CN="Centrum cizinc%C5%AF":MAILTO:usti@centrumcizincu.cz
GEO:50.6622886;14.0419656
X-APPLE-STRUCTURED-LOCATION;VALUE=URI;X-ADDRESS=Poradna pro integraci Ústí nad Labem Velká Hradební 33 Ústí nad Labem 40001 Česká republika;X-APPLE-RADIUS=500;X-TITLE=Velká Hradební 33:geo:14.0419656,50.6622886
END:VEVENT
BEGIN:VEVENT
DTSTART;TZID=Europe/Prague:20250805T090000
DTEND;TZID=Europe/Prague:20250805T160000
DTSTAMP:20260420T200732
CREATED:20250626T103854Z
LAST-MODIFIED:20250626T104009Z
UID:46617-1754384400-1754409600@centrumcizincu.cz
SUMMARY:Příměstský letní tábor
DESCRIPTION:Centrum cizinců pořádá Příměstský letní tábor pro děti-cizince s výukou českého jazyka (začátečníci). \nDopoledne je pro děti připravena výuka českého jazyka. \nV odpoleních hodinách jsou pro děti připraveny volnočasové aktivity (sportovní\, herní\, vývarné\, poznávací). \nTermín: 28. 7. – 8. 8. 2025 \nČas: 9:00 – 16:00 \nMísto: Poradna pro integraci\, Velká Hradební 33\, Ústí nad Labem \nNa tábor je potřeba děti přihlásit osobně předem v PPI\, počet míst je omezen. \nPro bližší informace volejte na tel. 777 361 457.
URL:https://centrumcizincu.cz/akce/primestsky-letni-tabor-4/2025-08-05/
LOCATION:Poradna pro integraci Ústí nad Labem\, Velká Hradební 33\, Ústí nad Labem\, 40001\, Česká republika
CATEGORIES:AKCE,Integrační aktivita,Pro děti
ATTACH;FMTTYPE=image/jpeg:https://centrumcizincu.cz/wp-content/uploads/2019/06/tábor-2019.jpg
ORGANIZER;CN="Centrum cizinc%C5%AF":MAILTO:usti@centrumcizincu.cz
GEO:50.6622886;14.0419656
X-APPLE-STRUCTURED-LOCATION;VALUE=URI;X-ADDRESS=Poradna pro integraci Ústí nad Labem Velká Hradební 33 Ústí nad Labem 40001 Česká republika;X-APPLE-RADIUS=500;X-TITLE=Velká Hradební 33:geo:14.0419656,50.6622886
END:VEVENT
BEGIN:VEVENT
DTSTART;TZID=Europe/Prague:20250806T090000
DTEND;TZID=Europe/Prague:20250806T160000
DTSTAMP:20260420T200732
CREATED:20250626T103854Z
LAST-MODIFIED:20250626T104009Z
UID:46618-1754470800-1754496000@centrumcizincu.cz
SUMMARY:Příměstský letní tábor
DESCRIPTION:Centrum cizinců pořádá Příměstský letní tábor pro děti-cizince s výukou českého jazyka (začátečníci). \nDopoledne je pro děti připravena výuka českého jazyka. \nV odpoleních hodinách jsou pro děti připraveny volnočasové aktivity (sportovní\, herní\, vývarné\, poznávací). \nTermín: 28. 7. – 8. 8. 2025 \nČas: 9:00 – 16:00 \nMísto: Poradna pro integraci\, Velká Hradební 33\, Ústí nad Labem \nNa tábor je potřeba děti přihlásit osobně předem v PPI\, počet míst je omezen. \nPro bližší informace volejte na tel. 777 361 457.
URL:https://centrumcizincu.cz/akce/primestsky-letni-tabor-4/2025-08-06/
LOCATION:Poradna pro integraci Ústí nad Labem\, Velká Hradební 33\, Ústí nad Labem\, 40001\, Česká republika
CATEGORIES:AKCE,Integrační aktivita,Pro děti
ATTACH;FMTTYPE=image/jpeg:https://centrumcizincu.cz/wp-content/uploads/2019/06/tábor-2019.jpg
ORGANIZER;CN="Centrum cizinc%C5%AF":MAILTO:usti@centrumcizincu.cz
GEO:50.6622886;14.0419656
X-APPLE-STRUCTURED-LOCATION;VALUE=URI;X-ADDRESS=Poradna pro integraci Ústí nad Labem Velká Hradební 33 Ústí nad Labem 40001 Česká republika;X-APPLE-RADIUS=500;X-TITLE=Velká Hradební 33:geo:14.0419656,50.6622886
END:VEVENT
BEGIN:VEVENT
DTSTART;TZID=Europe/Prague:20250807T090000
DTEND;TZID=Europe/Prague:20250807T160000
DTSTAMP:20260420T200732
CREATED:20250626T103854Z
LAST-MODIFIED:20250626T104010Z
UID:46619-1754557200-1754582400@centrumcizincu.cz
SUMMARY:Příměstský letní tábor
DESCRIPTION:Centrum cizinců pořádá Příměstský letní tábor pro děti-cizince s výukou českého jazyka (začátečníci). \nDopoledne je pro děti připravena výuka českého jazyka. \nV odpoleních hodinách jsou pro děti připraveny volnočasové aktivity (sportovní\, herní\, vývarné\, poznávací). \nTermín: 28. 7. – 8. 8. 2025 \nČas: 9:00 – 16:00 \nMísto: Poradna pro integraci\, Velká Hradební 33\, Ústí nad Labem \nNa tábor je potřeba děti přihlásit osobně předem v PPI\, počet míst je omezen. \nPro bližší informace volejte na tel. 777 361 457.
URL:https://centrumcizincu.cz/akce/primestsky-letni-tabor-4/2025-08-07/
LOCATION:Poradna pro integraci Ústí nad Labem\, Velká Hradební 33\, Ústí nad Labem\, 40001\, Česká republika
CATEGORIES:AKCE,Integrační aktivita,Pro děti
ATTACH;FMTTYPE=image/jpeg:https://centrumcizincu.cz/wp-content/uploads/2019/06/tábor-2019.jpg
ORGANIZER;CN="Centrum cizinc%C5%AF":MAILTO:usti@centrumcizincu.cz
GEO:50.6622886;14.0419656
X-APPLE-STRUCTURED-LOCATION;VALUE=URI;X-ADDRESS=Poradna pro integraci Ústí nad Labem Velká Hradební 33 Ústí nad Labem 40001 Česká republika;X-APPLE-RADIUS=500;X-TITLE=Velká Hradební 33:geo:14.0419656,50.6622886
END:VEVENT
BEGIN:VEVENT
DTSTART;TZID=Europe/Prague:20250808T090000
DTEND;TZID=Europe/Prague:20250808T160000
DTSTAMP:20260420T200732
CREATED:20250626T103854Z
LAST-MODIFIED:20250626T104015Z
UID:46620-1754643600-1754668800@centrumcizincu.cz
SUMMARY:Příměstský letní tábor
DESCRIPTION:Centrum cizinců pořádá Příměstský letní tábor pro děti-cizince s výukou českého jazyka (začátečníci). \nDopoledne je pro děti připravena výuka českého jazyka. \nV odpoleních hodinách jsou pro děti připraveny volnočasové aktivity (sportovní\, herní\, vývarné\, poznávací). \nTermín: 28. 7. – 8. 8. 2025 \nČas: 9:00 – 16:00 \nMísto: Poradna pro integraci\, Velká Hradební 33\, Ústí nad Labem \nNa tábor je potřeba děti přihlásit osobně předem v PPI\, počet míst je omezen. \nPro bližší informace volejte na tel. 777 361 457.
URL:https://centrumcizincu.cz/akce/primestsky-letni-tabor-4/2025-08-08/
LOCATION:Poradna pro integraci Ústí nad Labem\, Velká Hradební 33\, Ústí nad Labem\, 40001\, Česká republika
CATEGORIES:AKCE,Integrační aktivita,Pro děti
ATTACH;FMTTYPE=image/jpeg:https://centrumcizincu.cz/wp-content/uploads/2019/06/tábor-2019.jpg
ORGANIZER;CN="Centrum cizinc%C5%AF":MAILTO:usti@centrumcizincu.cz
GEO:50.6622886;14.0419656
X-APPLE-STRUCTURED-LOCATION;VALUE=URI;X-ADDRESS=Poradna pro integraci Ústí nad Labem Velká Hradební 33 Ústí nad Labem 40001 Česká republika;X-APPLE-RADIUS=500;X-TITLE=Velká Hradební 33:geo:14.0419656,50.6622886
END:VEVENT
BEGIN:VEVENT
DTSTART;TZID=Europe/Prague:20250812T093000
DTEND;TZID=Europe/Prague:20250812T103000
DTSTAMP:20260420T200732
CREATED:20250719T064045Z
LAST-MODIFIED:20250719T064045Z
UID:46906-1754991000-1754994600@centrumcizincu.cz
SUMMARY:Tvořivá dílna pro děti
DESCRIPTION:Centrum cizinců zve děti na tvořivou dílnu – žabka. \nAkce proběhne v úterý 12.8. 2025. \nSraz v 9:30 v PPI (Velká Hradební 33\, Ústí nad Labem). \n  \nV případě zájmu o akci se prosím zaregistrujte na tel. čísle 777 361 457.
URL:https://centrumcizincu.cz/akce/tvoriva-dilna-pro-deti-31/
LOCATION:Poradna pro integraci Ústí nad Labem\, Velká Hradební 33\, Ústí nad Labem\, 40001\, Česká republika
CATEGORIES:AKCE,Pro děti
ATTACH;FMTTYPE=image/jpeg:https://centrumcizincu.cz/wp-content/uploads/2025/07/zabka.jpg
ORGANIZER;CN="Centrum cizinc%C5%AF":MAILTO:usti@centrumcizincu.cz
GEO:50.6622886;14.0419656
X-APPLE-STRUCTURED-LOCATION;VALUE=URI;X-ADDRESS=Poradna pro integraci Ústí nad Labem Velká Hradební 33 Ústí nad Labem 40001 Česká republika;X-APPLE-RADIUS=500;X-TITLE=Velká Hradební 33:geo:14.0419656,50.6622886
END:VEVENT
BEGIN:VEVENT
DTSTART;TZID=Europe/Prague:20250822T100000
DTEND;TZID=Europe/Prague:20250822T120000
DTSTAMP:20260420T200732
CREATED:20250719T065407Z
LAST-MODIFIED:20250814T085220Z
UID:46915-1755856800-1755864000@centrumcizincu.cz
SUMMARY:Plyšová sanitka se záchranářem Markem
DESCRIPTION:Centrum cizinců zve děti do 10 let na akci – Plyšová sanitka se záchranářem markem (první pomoc pro děti s plyšovým kamarádem medvědem). \nAkce proběhne v pátek 22.8.2025 od 10:00 v PPI (Velká Hradební 33\, ústí nad Labem) \n  \nV případě zájmu o akci se prosím zaregistrujte na tel. čísle 777 361 457. \nNa akci budou pořizovány fotografie\, které mohou být použity za účelem propagace Poradny pro integraci\, z. ú..
URL:https://centrumcizincu.cz/akce/prvni-pomoc-pro-deti/
LOCATION:Poradna pro integraci Ústí nad Labem\, Velká Hradební 33\, Ústí nad Labem\, 40001\, Česká republika
CATEGORIES:AKCE,Pro děti
ATTACH;FMTTYPE=image/png:https://centrumcizincu.cz/wp-content/uploads/2025/07/sanitka.png
ORGANIZER;CN="Centrum cizinc%C5%AF":MAILTO:usti@centrumcizincu.cz
GEO:50.6622886;14.0419656
X-APPLE-STRUCTURED-LOCATION;VALUE=URI;X-ADDRESS=Poradna pro integraci Ústí nad Labem Velká Hradební 33 Ústí nad Labem 40001 Česká republika;X-APPLE-RADIUS=500;X-TITLE=Velká Hradební 33:geo:14.0419656,50.6622886
END:VEVENT
BEGIN:VEVENT
DTSTART;TZID=Europe/Prague:20250825T130000
DTEND;TZID=Europe/Prague:20250825T150000
DTSTAMP:20260420T200732
CREATED:20250718T085050Z
LAST-MODIFIED:20250718T085050Z
UID:46892-1756126800-1756134000@centrumcizincu.cz
SUMMARY:Soutěžní odpoledne
DESCRIPTION:Centrum cizinců zve děti na od 8 let na soutěžní odpoledne. \nAkce proběhne v pondělí 25.8. 2025. \nSraz v 13:00 v PPI (Velká Hradební 33\, Ústí nad Labem). \nS SEBOU: svačinu\, pití\, sportovní oblečení a obuv \nV případě zájmu o akci se prosím zaregistrujte na tel. čísle 777 361 457.
URL:https://centrumcizincu.cz/akce/soutezni-odpoledne-4/
LOCATION:Poradna pro integraci Ústí nad Labem\, Velká Hradební 33\, Ústí nad Labem\, 40001\, Česká republika
CATEGORIES:AKCE,Pro děti
ATTACH;FMTTYPE=image/jpeg:https://centrumcizincu.cz/wp-content/uploads/2020/01/soutěže.jpg
ORGANIZER;CN="Centrum cizinc%C5%AF":MAILTO:usti@centrumcizincu.cz
GEO:50.6622886;14.0419656
X-APPLE-STRUCTURED-LOCATION;VALUE=URI;X-ADDRESS=Poradna pro integraci Ústí nad Labem Velká Hradební 33 Ústí nad Labem 40001 Česká republika;X-APPLE-RADIUS=500;X-TITLE=Velká Hradební 33:geo:14.0419656,50.6622886
END:VEVENT
BEGIN:VEVENT
DTSTART;TZID=Europe/Prague:20250826T093000
DTEND;TZID=Europe/Prague:20250826T103000
DTSTAMP:20260420T200732
CREATED:20250719T063830Z
LAST-MODIFIED:20250719T063830Z
UID:46903-1756200600-1756204200@centrumcizincu.cz
SUMMARY:Tvořivá dílna pro děti
DESCRIPTION:Centrum cizinců zve děti na tvořivou dílnu – loďka. \nAkce proběhne v úterý 26.8. 2025. \nSraz v 9:30 v PPI (Velká Hradební 33\, Ústí nad Labem). \n  \nV případě zájmu o akci se prosím zaregistrujte na tel. čísle 777 361 457.
URL:https://centrumcizincu.cz/akce/tvoriva-dilna-pro-deti-30/
LOCATION:Poradna pro integraci Ústí nad Labem\, Velká Hradební 33\, Ústí nad Labem\, 40001\, Česká republika
CATEGORIES:AKCE,Pro děti
ATTACH;FMTTYPE=image/jpeg:https://centrumcizincu.cz/wp-content/uploads/2025/07/lodka.jpg
ORGANIZER;CN="Centrum cizinc%C5%AF":MAILTO:usti@centrumcizincu.cz
GEO:50.6622886;14.0419656
X-APPLE-STRUCTURED-LOCATION;VALUE=URI;X-ADDRESS=Poradna pro integraci Ústí nad Labem Velká Hradební 33 Ústí nad Labem 40001 Česká republika;X-APPLE-RADIUS=500;X-TITLE=Velká Hradební 33:geo:14.0419656,50.6622886
END:VEVENT
BEGIN:VEVENT
DTSTART;TZID=Europe/Prague:20250829T100000
DTEND;TZID=Europe/Prague:20250829T113000
DTSTAMP:20260420T200732
CREATED:20250718T082405Z
LAST-MODIFIED:20250718T082405Z
UID:46878-1756461600-1756467000@centrumcizincu.cz
SUMMARY:Herní dopoledne
DESCRIPTION:Centrum cizinců pořádá herní dopoledne pro děti 3-8 let. \nAkce proběhne v pátek  29.8.2025 od 10:0 v PPI Velká Hradební 33\, Ústí nad Labem \n  \nSOUTĚŽE\, HRY\, HLAVOLAMY\, KVÍZY \n  \nV případě zájmu o akci se prosím zaregistrujte v PPI\, Velká Hradební 33 osobně nebo na tel. čísle 777 361 457.
URL:https://centrumcizincu.cz/akce/herni-dopoledne/
LOCATION:Poradna pro integraci Ústí nad Labem\, Velká Hradební 33\, Ústí nad Labem\, 40001\, Česká republika
CATEGORIES:AKCE,Pro děti
ATTACH;FMTTYPE=image/png:https://centrumcizincu.cz/wp-content/uploads/2024/01/deskove-hry.png
ORGANIZER;CN="Centrum cizinc%C5%AF":MAILTO:usti@centrumcizincu.cz
GEO:50.6622886;14.0419656
X-APPLE-STRUCTURED-LOCATION;VALUE=URI;X-ADDRESS=Poradna pro integraci Ústí nad Labem Velká Hradební 33 Ústí nad Labem 40001 Česká republika;X-APPLE-RADIUS=500;X-TITLE=Velká Hradební 33:geo:14.0419656,50.6622886
END:VEVENT
END:VCALENDAR