BEGIN:VCALENDAR
VERSION:2.0
PRODID:-//centrumcizincu.cz - ECPv6.15.20//NONSGML v1.0//EN
CALSCALE:GREGORIAN
METHOD:PUBLISH
X-ORIGINAL-URL:https://centrumcizincu.cz
X-WR-CALDESC:Akce na centrumcizincu.cz
REFRESH-INTERVAL;VALUE=DURATION:PT1H
X-Robots-Tag:noindex
X-PUBLISHED-TTL:PT1H
BEGIN:VTIMEZONE
TZID:Europe/Prague
BEGIN:DAYLIGHT
TZOFFSETFROM:+0100
TZOFFSETTO:+0200
TZNAME:CEST
DTSTART:20250330T010000
END:DAYLIGHT
BEGIN:STANDARD
TZOFFSETFROM:+0200
TZOFFSETTO:+0100
TZNAME:CET
DTSTART:20251026T010000
END:STANDARD
BEGIN:DAYLIGHT
TZOFFSETFROM:+0100
TZOFFSETTO:+0200
TZNAME:CEST
DTSTART:20260329T010000
END:DAYLIGHT
BEGIN:STANDARD
TZOFFSETFROM:+0200
TZOFFSETTO:+0100
TZNAME:CET
DTSTART:20261025T010000
END:STANDARD
BEGIN:DAYLIGHT
TZOFFSETFROM:+0100
TZOFFSETTO:+0200
TZNAME:CEST
DTSTART:20270328T010000
END:DAYLIGHT
BEGIN:STANDARD
TZOFFSETFROM:+0200
TZOFFSETTO:+0100
TZNAME:CET
DTSTART:20271031T010000
END:STANDARD
END:VTIMEZONE
BEGIN:VEVENT
DTSTART;TZID=Europe/Prague:20260112T090000
DTEND;TZID=Europe/Prague:20260112T100000
DTSTAMP:20260420T130020
CREATED:20251215T105754Z
LAST-MODIFIED:20260218T101117Z
UID:48832-1768208400-1768212000@centrumcizincu.cz
SUMMARY:Dětský klubík s češtinou
DESCRIPTION:Centrum cizinců pořádá pro děti dětský klubík s češtinou. \nUrčeno dětem ve věku 3- 6 let. Klubík proběhne v českém jazyce. \nAkce proběhne vždy v PPI Ústí nad Labem\, Velká Hradební 33. \n pondělí: 9:00 – 10:00 \nstředa: 15:00 – 16:00 \n  \nZačínáme 12. 1. 2026. \nProgram: básničky s pohybem\, zpívání\, tvoření\, motorické cvičení \nV pondělí 9.2.2026 je klubík zrušen!!! \n  \n  \nV případě zájmu o akci se prosím zaregistrujte v PPI\, Velká Hradební 33 osobně nebo na tel. čísle 777 361 457. \n  \nNa akci budou pořizovány fotografie\, které mohou být použity za účelem propagace Poradny pro integraci\, z. ú..
URL:https://centrumcizincu.cz/akce/detsky-klubik-s-cestinou-4/2026-01-12/
LOCATION:Poradna pro integraci Ústí nad Labem\, Velká Hradební 33\, Ústí nad Labem\, 40001\, Česká republika
CATEGORIES:AKCE,Pro děti
ATTACH;FMTTYPE=image/png:https://centrumcizincu.cz/wp-content/uploads/2025/02/sovicka.png
ORGANIZER;CN="Centrum cizinc%C5%AF":MAILTO:usti@centrumcizincu.cz
GEO:50.6622886;14.0419656
X-APPLE-STRUCTURED-LOCATION;VALUE=URI;X-ADDRESS=Poradna pro integraci Ústí nad Labem Velká Hradební 33 Ústí nad Labem 40001 Česká republika;X-APPLE-RADIUS=500;X-TITLE=Velká Hradební 33:geo:14.0419656,50.6622886
END:VEVENT
BEGIN:VEVENT
DTSTART;TZID=Europe/Prague:20260112T160000
DTEND;TZID=Europe/Prague:20260112T163000
DTSTAMP:20260420T130020
CREATED:20251215T121117Z
LAST-MODIFIED:20260110T164849Z
UID:48856-1768233600-1768235400@centrumcizincu.cz
SUMMARY:Tvořivá dílna pro děti
DESCRIPTION:Centrum cizinců zve děti na tvořivou dílnu – sněhulák. \nAkce proběhne v pondělí 12.1. 2026. \nSraz v 16:00 v PPI (Velká Hradební 33\, Ústí nad Labem). \n  \nV případě zájmu o akci se prosím zaregistrujte na tel. čísle 777 361 457. \nNa akci budou pořizovány fotografie\, které mohou být použity za účelem propagace Poradny pro integraci\, z. ú..
URL:https://centrumcizincu.cz/akce/tvoriva-dilna-pro-deti-46/
LOCATION:Poradna pro integraci Ústí nad Labem\, Velká Hradební 33\, Ústí nad Labem\, 40001\, Česká republika
CATEGORIES:AKCE,Pro děti
ATTACH;FMTTYPE=image/png:https://centrumcizincu.cz/wp-content/uploads/2025/12/snehulaci.png
ORGANIZER;CN="Centrum cizinc%C5%AF":MAILTO:usti@centrumcizincu.cz
GEO:50.6622886;14.0419656
X-APPLE-STRUCTURED-LOCATION;VALUE=URI;X-ADDRESS=Poradna pro integraci Ústí nad Labem Velká Hradební 33 Ústí nad Labem 40001 Česká republika;X-APPLE-RADIUS=500;X-TITLE=Velká Hradební 33:geo:14.0419656,50.6622886
END:VEVENT
BEGIN:VEVENT
DTSTART;TZID=Europe/Prague:20260114T150000
DTEND;TZID=Europe/Prague:20260114T160000
DTSTAMP:20260420T130020
CREATED:20251215T105900Z
LAST-MODIFIED:20260303T114148Z
UID:48834-1768402800-1768406400@centrumcizincu.cz
SUMMARY:Dětský klubík s češtinou
DESCRIPTION:Centrum cizinců pořádá pro děti dětský klubík s češtinou. \nUrčeno dětem ve věku 3- 6 let. Klubík proběhne v českém jazyce. \nAkce proběhne vždy v PPI Ústí nad Labem\, Velká Hradební 33. \nstředa: 15:00 – 16:00 \n  \nProgram: básničky s pohybem\, zpívání\, tvoření\, motorické cvičení \n  \nV případě zájmu o akci se prosím zaregistrujte v PPI\, Velká Hradební 33 osobně nebo na tel. čísle 777 361 457. \n  \nNa akci budou pořizovány fotografie\, které mohou být použity za účelem propagace Poradny pro integraci\, z. ú..
URL:https://centrumcizincu.cz/akce/detsky-klubik-s-cestinou-5/2026-01-14/
LOCATION:Poradna pro integraci Ústí nad Labem\, Velká Hradební 33\, Ústí nad Labem\, 40001\, Česká republika
CATEGORIES:AKCE,Integrační aktivita,Pro děti
ATTACH;FMTTYPE=image/png:https://centrumcizincu.cz/wp-content/uploads/2025/02/sovicka.png
ORGANIZER;CN="Centrum cizinc%C5%AF":MAILTO:usti@centrumcizincu.cz
GEO:50.6622886;14.0419656
X-APPLE-STRUCTURED-LOCATION;VALUE=URI;X-ADDRESS=Poradna pro integraci Ústí nad Labem Velká Hradební 33 Ústí nad Labem 40001 Česká republika;X-APPLE-RADIUS=500;X-TITLE=Velká Hradební 33:geo:14.0419656,50.6622886
END:VEVENT
BEGIN:VEVENT
DTSTART;TZID=Europe/Prague:20260115T160000
DTEND;TZID=Europe/Prague:20260115T170000
DTSTAMP:20260420T130020
CREATED:20251215T113938Z
LAST-MODIFIED:20251215T113938Z
UID:48846-1768492800-1768496400@centrumcizincu.cz
SUMMARY:Čtení pro děti
DESCRIPTION:Centrum cizinců pořádá pro děti ČTENÍ POHÁDEK. \nAkce proběhne ve čtvrtek 15. 1. 2026 – Dlouhý\, Široký a Bystrozraký. \nSraz v 16:00 v PPI Ústí nad Labem\, Velká Hradební 33. \n  \nV případě zájmu o akci se prosím zaregistrujte v PPI\, Velká Hradební 33 osobně nebo na tel. čísle 777 361 457. \nNa akci budou pořizovány fotografie\, které mohou být použity za účelem propagace Poradny pro integraci\, z. ú..
URL:https://centrumcizincu.cz/akce/cteni-pro-deti-18/
LOCATION:Poradna pro integraci Ústí nad Labem\, Velká Hradební 33\, Ústí nad Labem\, 40001\, Česká republika
CATEGORIES:AKCE,Pro děti
ATTACH;FMTTYPE=image/jpeg:https://centrumcizincu.cz/wp-content/uploads/2021/08/cteni.jpg
ORGANIZER;CN="Centrum cizinc%C5%AF":MAILTO:usti@centrumcizincu.cz
GEO:50.6622886;14.0419656
X-APPLE-STRUCTURED-LOCATION;VALUE=URI;X-ADDRESS=Poradna pro integraci Ústí nad Labem Velká Hradební 33 Ústí nad Labem 40001 Česká republika;X-APPLE-RADIUS=500;X-TITLE=Velká Hradební 33:geo:14.0419656,50.6622886
END:VEVENT
BEGIN:VEVENT
DTSTART;TZID=Europe/Prague:20260119T090000
DTEND;TZID=Europe/Prague:20260119T100000
DTSTAMP:20260420T130020
CREATED:20251215T105754Z
LAST-MODIFIED:20260218T101117Z
UID:48840-1768813200-1768816800@centrumcizincu.cz
SUMMARY:Dětský klubík s češtinou
DESCRIPTION:Centrum cizinců pořádá pro děti dětský klubík s češtinou. \nUrčeno dětem ve věku 3- 6 let. Klubík proběhne v českém jazyce. \nAkce proběhne vždy v PPI Ústí nad Labem\, Velká Hradební 33. \n pondělí: 9:00 – 10:00 \nstředa: 15:00 – 16:00 \n  \nZačínáme 12. 1. 2026. \nProgram: básničky s pohybem\, zpívání\, tvoření\, motorické cvičení \nV pondělí 9.2.2026 je klubík zrušen!!! \n  \n  \nV případě zájmu o akci se prosím zaregistrujte v PPI\, Velká Hradební 33 osobně nebo na tel. čísle 777 361 457. \n  \nNa akci budou pořizovány fotografie\, které mohou být použity za účelem propagace Poradny pro integraci\, z. ú..
URL:https://centrumcizincu.cz/akce/detsky-klubik-s-cestinou-4/2026-01-19/
LOCATION:Poradna pro integraci Ústí nad Labem\, Velká Hradební 33\, Ústí nad Labem\, 40001\, Česká republika
CATEGORIES:AKCE,Pro děti
ATTACH;FMTTYPE=image/png:https://centrumcizincu.cz/wp-content/uploads/2025/02/sovicka.png
ORGANIZER;CN="Centrum cizinc%C5%AF":MAILTO:usti@centrumcizincu.cz
GEO:50.6622886;14.0419656
X-APPLE-STRUCTURED-LOCATION;VALUE=URI;X-ADDRESS=Poradna pro integraci Ústí nad Labem Velká Hradební 33 Ústí nad Labem 40001 Česká republika;X-APPLE-RADIUS=500;X-TITLE=Velká Hradební 33:geo:14.0419656,50.6622886
END:VEVENT
BEGIN:VEVENT
DTSTART;TZID=Europe/Prague:20260119T160000
DTEND;TZID=Europe/Prague:20260119T170000
DTSTAMP:20260420T130020
CREATED:20251215T120844Z
LAST-MODIFIED:20260110T164921Z
UID:48850-1768838400-1768842000@centrumcizincu.cz
SUMMARY:Tvořivá dílna pro děti
DESCRIPTION:Centrum cizinců zve děti na tvořivou dílnu – tučňak. \nAkce proběhne v pondělí 19.1. 2026. \nSraz v 16:00 v PPI (Velká Hradební 33\, Ústí nad Labem). \n  \nV případě zájmu o akci se prosím zaregistrujte na tel. čísle 777 361 457. \nNa akci budou pořizovány fotografie\, které mohou být použity za účelem propagace Poradny pro integraci\, z. ú..
URL:https://centrumcizincu.cz/akce/tvoriva-dilna-pro-deti-44/
LOCATION:Poradna pro integraci Ústí nad Labem\, Velká Hradební 33\, Ústí nad Labem\, 40001\, Česká republika
CATEGORIES:AKCE,Pro děti
ATTACH;FMTTYPE=image/png:https://centrumcizincu.cz/wp-content/uploads/2025/12/tucnak.png
ORGANIZER;CN="Centrum cizinc%C5%AF":MAILTO:usti@centrumcizincu.cz
GEO:50.6622886;14.0419656
X-APPLE-STRUCTURED-LOCATION;VALUE=URI;X-ADDRESS=Poradna pro integraci Ústí nad Labem Velká Hradební 33 Ústí nad Labem 40001 Česká republika;X-APPLE-RADIUS=500;X-TITLE=Velká Hradební 33:geo:14.0419656,50.6622886
END:VEVENT
BEGIN:VEVENT
DTSTART;TZID=Europe/Prague:20260126T090000
DTEND;TZID=Europe/Prague:20260126T100000
DTSTAMP:20260420T130020
CREATED:20251215T105754Z
LAST-MODIFIED:20260218T101118Z
UID:48841-1769418000-1769421600@centrumcizincu.cz
SUMMARY:Dětský klubík s češtinou
DESCRIPTION:Centrum cizinců pořádá pro děti dětský klubík s češtinou. \nUrčeno dětem ve věku 3- 6 let. Klubík proběhne v českém jazyce. \nAkce proběhne vždy v PPI Ústí nad Labem\, Velká Hradební 33. \n pondělí: 9:00 – 10:00 \nstředa: 15:00 – 16:00 \n  \nZačínáme 12. 1. 2026. \nProgram: básničky s pohybem\, zpívání\, tvoření\, motorické cvičení \nV pondělí 9.2.2026 je klubík zrušen!!! \n  \n  \nV případě zájmu o akci se prosím zaregistrujte v PPI\, Velká Hradební 33 osobně nebo na tel. čísle 777 361 457. \n  \nNa akci budou pořizovány fotografie\, které mohou být použity za účelem propagace Poradny pro integraci\, z. ú..
URL:https://centrumcizincu.cz/akce/detsky-klubik-s-cestinou-4/2026-01-26/
LOCATION:Poradna pro integraci Ústí nad Labem\, Velká Hradební 33\, Ústí nad Labem\, 40001\, Česká republika
CATEGORIES:AKCE,Pro děti
ATTACH;FMTTYPE=image/png:https://centrumcizincu.cz/wp-content/uploads/2025/02/sovicka.png
ORGANIZER;CN="Centrum cizinc%C5%AF":MAILTO:usti@centrumcizincu.cz
GEO:50.6622886;14.0419656
X-APPLE-STRUCTURED-LOCATION;VALUE=URI;X-ADDRESS=Poradna pro integraci Ústí nad Labem Velká Hradební 33 Ústí nad Labem 40001 Česká republika;X-APPLE-RADIUS=500;X-TITLE=Velká Hradební 33:geo:14.0419656,50.6622886
END:VEVENT
BEGIN:VEVENT
DTSTART;TZID=Europe/Prague:20260126T160000
DTEND;TZID=Europe/Prague:20260126T170000
DTSTAMP:20260420T130020
CREATED:20251215T120944Z
LAST-MODIFIED:20260110T164946Z
UID:48854-1769443200-1769446800@centrumcizincu.cz
SUMMARY:Tvořivá dílna pro děti
DESCRIPTION:Centrum cizinců zve děti na tvořivou dílnu – zimní strom. \nAkce proběhne v pondělí 26.1. 2026. \nSraz v 16:00 v PPI (Velká Hradební 33\, Ústí nad Labem). \n  \nV případě zájmu o akci se prosím zaregistrujte na tel. čísle 777 361 457. \nNa akci budou pořizovány fotografie\, které mohou být použity za účelem propagace Poradny pro integraci\, z. ú..
URL:https://centrumcizincu.cz/akce/tvoriva-dilna-pro-deti-45/
LOCATION:Poradna pro integraci Ústí nad Labem\, Velká Hradební 33\, Ústí nad Labem\, 40001\, Česká republika
CATEGORIES:AKCE,Pro děti
ATTACH;FMTTYPE=image/png:https://centrumcizincu.cz/wp-content/uploads/2025/12/zimni-strom.png
ORGANIZER;CN="Centrum cizinc%C5%AF":MAILTO:usti@centrumcizincu.cz
GEO:50.6622886;14.0419656
X-APPLE-STRUCTURED-LOCATION;VALUE=URI;X-ADDRESS=Poradna pro integraci Ústí nad Labem Velká Hradební 33 Ústí nad Labem 40001 Česká republika;X-APPLE-RADIUS=500;X-TITLE=Velká Hradební 33:geo:14.0419656,50.6622886
END:VEVENT
BEGIN:VEVENT
DTSTART;TZID=Europe/Prague:20260128T150000
DTEND;TZID=Europe/Prague:20260128T160000
DTSTAMP:20260420T130020
CREATED:20251215T105900Z
LAST-MODIFIED:20260303T114149Z
UID:48838-1769612400-1769616000@centrumcizincu.cz
SUMMARY:Dětský klubík s češtinou
DESCRIPTION:Centrum cizinců pořádá pro děti dětský klubík s češtinou. \nUrčeno dětem ve věku 3- 6 let. Klubík proběhne v českém jazyce. \nAkce proběhne vždy v PPI Ústí nad Labem\, Velká Hradební 33. \nstředa: 15:00 – 16:00 \n  \nProgram: básničky s pohybem\, zpívání\, tvoření\, motorické cvičení \n  \nV případě zájmu o akci se prosím zaregistrujte v PPI\, Velká Hradební 33 osobně nebo na tel. čísle 777 361 457. \n  \nNa akci budou pořizovány fotografie\, které mohou být použity za účelem propagace Poradny pro integraci\, z. ú..
URL:https://centrumcizincu.cz/akce/detsky-klubik-s-cestinou-5/2026-01-28/
LOCATION:Poradna pro integraci Ústí nad Labem\, Velká Hradební 33\, Ústí nad Labem\, 40001\, Česká republika
CATEGORIES:AKCE,Integrační aktivita,Pro děti
ATTACH;FMTTYPE=image/png:https://centrumcizincu.cz/wp-content/uploads/2025/02/sovicka.png
ORGANIZER;CN="Centrum cizinc%C5%AF":MAILTO:usti@centrumcizincu.cz
GEO:50.6622886;14.0419656
X-APPLE-STRUCTURED-LOCATION;VALUE=URI;X-ADDRESS=Poradna pro integraci Ústí nad Labem Velká Hradební 33 Ústí nad Labem 40001 Česká republika;X-APPLE-RADIUS=500;X-TITLE=Velká Hradební 33:geo:14.0419656,50.6622886
END:VEVENT
BEGIN:VEVENT
DTSTART;TZID=Europe/Prague:20260129T160000
DTEND;TZID=Europe/Prague:20260129T170000
DTSTAMP:20260420T130020
CREATED:20251215T114127Z
LAST-MODIFIED:20251215T114127Z
UID:48848-1769702400-1769706000@centrumcizincu.cz
SUMMARY:Čtení pro děti
DESCRIPTION:Centrum cizinců pořádá pro děti ČTENÍ POHÁDEK. \nAkce proběhne ve čtvrtek 29. 1. 2026 – Sněhurka. \nSraz v 16:00 v PPI Ústí nad Labem\, Velká Hradební 33. \n  \nV případě zájmu o akci se prosím zaregistrujte v PPI\, Velká Hradební 33 osobně nebo na tel. čísle 777 361 457. \nNa akci budou pořizovány fotografie\, které mohou být použity za účelem propagace Poradny pro integraci\, z. ú..
URL:https://centrumcizincu.cz/akce/cteni-pro-deti-19/
LOCATION:Poradna pro integraci Ústí nad Labem\, Velká Hradební 33\, Ústí nad Labem\, 40001\, Česká republika
CATEGORIES:AKCE,Pro děti
ATTACH;FMTTYPE=image/jpeg:https://centrumcizincu.cz/wp-content/uploads/2021/08/cteni.jpg
ORGANIZER;CN="Centrum cizinc%C5%AF":MAILTO:usti@centrumcizincu.cz
GEO:50.6622886;14.0419656
X-APPLE-STRUCTURED-LOCATION;VALUE=URI;X-ADDRESS=Poradna pro integraci Ústí nad Labem Velká Hradební 33 Ústí nad Labem 40001 Česká republika;X-APPLE-RADIUS=500;X-TITLE=Velká Hradební 33:geo:14.0419656,50.6622886
END:VEVENT
BEGIN:VEVENT
DTSTART;TZID=Europe/Prague:20260130T100000
DTEND;TZID=Europe/Prague:20260130T120000
DTSTAMP:20260420T130020
CREATED:20251215T121343Z
LAST-MODIFIED:20251215T121354Z
UID:48859-1769767200-1769774400@centrumcizincu.cz
SUMMARY:Karnevalová párty
DESCRIPTION:Centrum cizinců zve děti na karnevalovou párty. \nAkce proběhne v pátek 30. 1. 2026. \nSraz v 10:00 v PPI (Velká Hradební 33\, Ústí nad Labem). \n  \nV případě zájmu o akci se prosím zaregistrujte na tel. čísle 777 361 457. \nNa akci budou pořizovány fotografie\, které mohou být použity za účelem propagace Poradny pro integraci\, z. ú..
URL:https://centrumcizincu.cz/akce/karnevalova-party/
LOCATION:Poradna pro integraci Ústí nad Labem\, Velká Hradební 33\, Ústí nad Labem\, 40001\, Česká republika
CATEGORIES:AKCE,Pro děti
ATTACH;FMTTYPE=image/png:https://centrumcizincu.cz/wp-content/uploads/2025/01/masky.png
ORGANIZER;CN="Centrum cizinc%C5%AF":MAILTO:usti@centrumcizincu.cz
GEO:50.6622886;14.0419656
X-APPLE-STRUCTURED-LOCATION;VALUE=URI;X-ADDRESS=Poradna pro integraci Ústí nad Labem Velká Hradební 33 Ústí nad Labem 40001 Česká republika;X-APPLE-RADIUS=500;X-TITLE=Velká Hradební 33:geo:14.0419656,50.6622886
END:VEVENT
END:VCALENDAR