BEGIN:VCALENDAR
VERSION:2.0
PRODID:-//centrumcizincu.cz - ECPv6.15.20//NONSGML v1.0//EN
CALSCALE:GREGORIAN
METHOD:PUBLISH
X-ORIGINAL-URL:https://centrumcizincu.cz
X-WR-CALDESC:Akce na centrumcizincu.cz
REFRESH-INTERVAL;VALUE=DURATION:PT1H
X-Robots-Tag:noindex
X-PUBLISHED-TTL:PT1H
BEGIN:VTIMEZONE
TZID:Europe/Prague
BEGIN:DAYLIGHT
TZOFFSETFROM:+0100
TZOFFSETTO:+0200
TZNAME:CEST
DTSTART:20250330T010000
END:DAYLIGHT
BEGIN:STANDARD
TZOFFSETFROM:+0200
TZOFFSETTO:+0100
TZNAME:CET
DTSTART:20251026T010000
END:STANDARD
BEGIN:DAYLIGHT
TZOFFSETFROM:+0100
TZOFFSETTO:+0200
TZNAME:CEST
DTSTART:20260329T010000
END:DAYLIGHT
BEGIN:STANDARD
TZOFFSETFROM:+0200
TZOFFSETTO:+0100
TZNAME:CET
DTSTART:20261025T010000
END:STANDARD
BEGIN:DAYLIGHT
TZOFFSETFROM:+0100
TZOFFSETTO:+0200
TZNAME:CEST
DTSTART:20270328T010000
END:DAYLIGHT
BEGIN:STANDARD
TZOFFSETFROM:+0200
TZOFFSETTO:+0100
TZNAME:CET
DTSTART:20271031T010000
END:STANDARD
END:VTIMEZONE
BEGIN:VEVENT
DTSTART;TZID=Europe/Prague:20260302T160000
DTEND;TZID=Europe/Prague:20260302T170000
DTSTAMP:20260420T100553
CREATED:20260223T094543Z
LAST-MODIFIED:20260225T121445Z
UID:49407-1772467200-1772470800@centrumcizincu.cz
SUMMARY:Tvrořivá dílna pro děti
DESCRIPTION:ZRUŠENO Z DŮVODU NEMOCI!
URL:https://centrumcizincu.cz/akce/tvroriva-dilna-pro-deti/
LOCATION:Poradna pro integraci Ústí nad Labem\, Velká Hradební 33\, Ústí nad Labem\, 40001\, Česká republika
CATEGORIES:AKCE,Integrační aktivita,Pro děti
ATTACH;FMTTYPE=image/png:https://centrumcizincu.cz/wp-content/uploads/2026/02/snezenky-2.png
ORGANIZER;CN="Centrum cizinc%C5%AF":MAILTO:usti@centrumcizincu.cz
GEO:50.6622886;14.0419656
X-APPLE-STRUCTURED-LOCATION;VALUE=URI;X-ADDRESS=Poradna pro integraci Ústí nad Labem Velká Hradební 33 Ústí nad Labem 40001 Česká republika;X-APPLE-RADIUS=500;X-TITLE=Velká Hradební 33:geo:14.0419656,50.6622886
END:VEVENT
BEGIN:VEVENT
DTSTART;TZID=Europe/Prague:20260309T160000
DTEND;TZID=Europe/Prague:20260309T170000
DTSTAMP:20260420T100553
CREATED:20260223T094639Z
LAST-MODIFIED:20260223T094639Z
UID:49414-1773072000-1773075600@centrumcizincu.cz
SUMMARY:Tvořivá dílna pro děti
DESCRIPTION:Centrum cizinců zve děti na tvořivou dílnu – vrána. \nAkce proběhne v pondělí 9. 3. 2026. \nSraz v 16:00 v PPI (Velká Hradební 33\, Ústí nad Labem). \n  \nV případě zájmu o akci se prosím zaregistrujte na tel. čísle 777 361 457. \nNa akci budou pořizovány fotografie\, které mohou být použity za účelem propagace Poradny pro integraci\, z. ú..
URL:https://centrumcizincu.cz/akce/tvoriva-dilna-pro-deti-51/
LOCATION:Poradna pro integraci Ústí nad Labem\, Velká Hradební 33\, Ústí nad Labem\, 40001\, Česká republika
CATEGORIES:AKCE,Integrační aktivita,Pro děti
ATTACH;FMTTYPE=image/png:https://centrumcizincu.cz/wp-content/uploads/2026/02/vrana.png
ORGANIZER;CN="Centrum cizinc%C5%AF":MAILTO:usti@centrumcizincu.cz
GEO:50.6622886;14.0419656
X-APPLE-STRUCTURED-LOCATION;VALUE=URI;X-ADDRESS=Poradna pro integraci Ústí nad Labem Velká Hradební 33 Ústí nad Labem 40001 Česká republika;X-APPLE-RADIUS=500;X-TITLE=Velká Hradební 33:geo:14.0419656,50.6622886
END:VEVENT
BEGIN:VEVENT
DTSTART;TZID=Europe/Prague:20260311T150000
DTEND;TZID=Europe/Prague:20260311T160000
DTSTAMP:20260420T100553
CREATED:20251215T105900Z
LAST-MODIFIED:20260303T114152Z
UID:49425-1773241200-1773244800@centrumcizincu.cz
SUMMARY:Dětský klubík s češtinou
DESCRIPTION:Centrum cizinců pořádá pro děti dětský klubík s češtinou. \nUrčeno dětem ve věku 3- 6 let. Klubík proběhne v českém jazyce. \nAkce proběhne vždy v PPI Ústí nad Labem\, Velká Hradební 33. \nstředa: 15:00 – 16:00 \n  \nProgram: básničky s pohybem\, zpívání\, tvoření\, motorické cvičení \n  \nV případě zájmu o akci se prosím zaregistrujte v PPI\, Velká Hradební 33 osobně nebo na tel. čísle 777 361 457. \n  \nNa akci budou pořizovány fotografie\, které mohou být použity za účelem propagace Poradny pro integraci\, z. ú..
URL:https://centrumcizincu.cz/akce/detsky-klubik-s-cestinou-5/2026-03-11/
LOCATION:Poradna pro integraci Ústí nad Labem\, Velká Hradební 33\, Ústí nad Labem\, 40001\, Česká republika
CATEGORIES:AKCE,Integrační aktivita,Pro děti
ATTACH;FMTTYPE=image/png:https://centrumcizincu.cz/wp-content/uploads/2025/02/sovicka.png
ORGANIZER;CN="Centrum cizinc%C5%AF":MAILTO:usti@centrumcizincu.cz
GEO:50.6622886;14.0419656
X-APPLE-STRUCTURED-LOCATION;VALUE=URI;X-ADDRESS=Poradna pro integraci Ústí nad Labem Velká Hradební 33 Ústí nad Labem 40001 Česká republika;X-APPLE-RADIUS=500;X-TITLE=Velká Hradební 33:geo:14.0419656,50.6622886
END:VEVENT
BEGIN:VEVENT
DTSTART;TZID=Europe/Prague:20260312T160000
DTEND;TZID=Europe/Prague:20260312T170000
DTSTAMP:20260420T100553
CREATED:20260223T103107Z
LAST-MODIFIED:20260223T110002Z
UID:49447-1773331200-1773334800@centrumcizincu.cz
SUMMARY:Čtení pro děti
DESCRIPTION:Centrum cizinců pořádá pro děti ČTENÍ POHÁDEK. \nAkce proběhne ve čtvrtek 12. 3. 2026 – Kráska a zvíře. \nSraz v 16:00 v PPI Ústí nad Labem\, Velká Hradební 33. \n  \nV případě zájmu o akci se prosím zaregistrujte v PPI\, Velká Hradební 33 osobně nebo na tel. čísle 777 361 457. \nNa akci budou pořizovány fotografie\, které mohou být použity za účelem propagace Poradny pro integraci\, z. ú..
URL:https://centrumcizincu.cz/akce/cteni-pro-deti-22/
LOCATION:Poradna pro integraci Ústí nad Labem\, Velká Hradební 33\, Ústí nad Labem\, 40001\, Česká republika
CATEGORIES:AKCE,Integrační aktivita,Pro děti
ATTACH;FMTTYPE=image/jpeg:https://centrumcizincu.cz/wp-content/uploads/2021/08/cteni.jpg
ORGANIZER;CN="Centrum cizinc%C5%AF":MAILTO:usti@centrumcizincu.cz
GEO:50.6622886;14.0419656
X-APPLE-STRUCTURED-LOCATION;VALUE=URI;X-ADDRESS=Poradna pro integraci Ústí nad Labem Velká Hradební 33 Ústí nad Labem 40001 Česká republika;X-APPLE-RADIUS=500;X-TITLE=Velká Hradební 33:geo:14.0419656,50.6622886
END:VEVENT
BEGIN:VEVENT
DTSTART;TZID=Europe/Prague:20260316T160000
DTEND;TZID=Europe/Prague:20260316T170000
DTSTAMP:20260420T100553
CREATED:20260223T094752Z
LAST-MODIFIED:20260223T094752Z
UID:49416-1773676800-1773680400@centrumcizincu.cz
SUMMARY:Tvořivá dílna pro děti
DESCRIPTION:Centrum cizinců zve děti na tvořivou dílnu – odemykání jara. \nAkce proběhne v pondělí 16. 3. 2026. \nSraz v 16:00 v PPI (Velká Hradební 33\, Ústí nad Labem). \n  \nV případě zájmu o akci se prosím zaregistrujte na tel. čísle 777 361 457. \nNa akci budou pořizovány fotografie\, které mohou být použity za účelem propagace Poradny pro integraci\, z. ú..
URL:https://centrumcizincu.cz/akce/tvoriva-dilna-pro-deti-52/
LOCATION:Poradna pro integraci Ústí nad Labem\, Velká Hradební 33\, Ústí nad Labem\, 40001\, Česká republika
CATEGORIES:AKCE,Integrační aktivita,Pro děti
ATTACH;FMTTYPE=image/png:https://centrumcizincu.cz/wp-content/uploads/2026/02/klic-k-jaru.png
ORGANIZER;CN="Centrum cizinc%C5%AF":MAILTO:usti@centrumcizincu.cz
GEO:50.6622886;14.0419656
X-APPLE-STRUCTURED-LOCATION;VALUE=URI;X-ADDRESS=Poradna pro integraci Ústí nad Labem Velká Hradební 33 Ústí nad Labem 40001 Česká republika;X-APPLE-RADIUS=500;X-TITLE=Velká Hradební 33:geo:14.0419656,50.6622886
END:VEVENT
BEGIN:VEVENT
DTSTART;TZID=Europe/Prague:20260318T150000
DTEND;TZID=Europe/Prague:20260318T160000
DTSTAMP:20260420T100553
CREATED:20251215T105900Z
LAST-MODIFIED:20260303T114152Z
UID:49426-1773846000-1773849600@centrumcizincu.cz
SUMMARY:Dětský klubík s češtinou
DESCRIPTION:Centrum cizinců pořádá pro děti dětský klubík s češtinou. \nUrčeno dětem ve věku 3- 6 let. Klubík proběhne v českém jazyce. \nAkce proběhne vždy v PPI Ústí nad Labem\, Velká Hradební 33. \nstředa: 15:00 – 16:00 \n  \nProgram: básničky s pohybem\, zpívání\, tvoření\, motorické cvičení \n  \nV případě zájmu o akci se prosím zaregistrujte v PPI\, Velká Hradební 33 osobně nebo na tel. čísle 777 361 457. \n  \nNa akci budou pořizovány fotografie\, které mohou být použity za účelem propagace Poradny pro integraci\, z. ú..
URL:https://centrumcizincu.cz/akce/detsky-klubik-s-cestinou-5/2026-03-18/
LOCATION:Poradna pro integraci Ústí nad Labem\, Velká Hradební 33\, Ústí nad Labem\, 40001\, Česká republika
CATEGORIES:AKCE,Integrační aktivita,Pro děti
ATTACH;FMTTYPE=image/png:https://centrumcizincu.cz/wp-content/uploads/2025/02/sovicka.png
ORGANIZER;CN="Centrum cizinc%C5%AF":MAILTO:usti@centrumcizincu.cz
GEO:50.6622886;14.0419656
X-APPLE-STRUCTURED-LOCATION;VALUE=URI;X-ADDRESS=Poradna pro integraci Ústí nad Labem Velká Hradební 33 Ústí nad Labem 40001 Česká republika;X-APPLE-RADIUS=500;X-TITLE=Velká Hradební 33:geo:14.0419656,50.6622886
END:VEVENT
BEGIN:VEVENT
DTSTART;TZID=Europe/Prague:20260323T160000
DTEND;TZID=Europe/Prague:20260323T170000
DTSTAMP:20260420T100553
CREATED:20260223T094848Z
LAST-MODIFIED:20260223T094848Z
UID:49418-1774281600-1774285200@centrumcizincu.cz
SUMMARY:Tvořivá dílna pro děti
DESCRIPTION:Centrum cizinců zve děti na tvořivou dílnu – velikonoční tráva. \nAkce proběhne v pondělí 23. 3. 2026. \nSraz v 16:00 v PPI (Velká Hradební 33\, Ústí nad Labem). \n  \nV případě zájmu o akci se prosím zaregistrujte na tel. čísle 777 361 457. \nNa akci budou pořizovány fotografie\, které mohou být použity za účelem propagace Poradny pro integraci\, z. ú..
URL:https://centrumcizincu.cz/akce/tvoriva-dilna-pro-deti-53/
LOCATION:Poradna pro integraci Ústí nad Labem\, Velká Hradební 33\, Ústí nad Labem\, 40001\, Česká republika
CATEGORIES:AKCE,Integrační aktivita,Pro děti
ATTACH;FMTTYPE=image/png:https://centrumcizincu.cz/wp-content/uploads/2026/02/velikonocni-trava.png
ORGANIZER;CN="Centrum cizinc%C5%AF":MAILTO:usti@centrumcizincu.cz
GEO:50.6622886;14.0419656
X-APPLE-STRUCTURED-LOCATION;VALUE=URI;X-ADDRESS=Poradna pro integraci Ústí nad Labem Velká Hradební 33 Ústí nad Labem 40001 Česká republika;X-APPLE-RADIUS=500;X-TITLE=Velká Hradební 33:geo:14.0419656,50.6622886
END:VEVENT
BEGIN:VEVENT
DTSTART;TZID=Europe/Prague:20260325T150000
DTEND;TZID=Europe/Prague:20260325T160000
DTSTAMP:20260420T100553
CREATED:20251215T105900Z
LAST-MODIFIED:20260303T114153Z
UID:49427-1774450800-1774454400@centrumcizincu.cz
SUMMARY:Dětský klubík s češtinou
DESCRIPTION:Centrum cizinců pořádá pro děti dětský klubík s češtinou. \nUrčeno dětem ve věku 3- 6 let. Klubík proběhne v českém jazyce. \nAkce proběhne vždy v PPI Ústí nad Labem\, Velká Hradební 33. \nstředa: 15:00 – 16:00 \n  \nProgram: básničky s pohybem\, zpívání\, tvoření\, motorické cvičení \n  \nV případě zájmu o akci se prosím zaregistrujte v PPI\, Velká Hradební 33 osobně nebo na tel. čísle 777 361 457. \n  \nNa akci budou pořizovány fotografie\, které mohou být použity za účelem propagace Poradny pro integraci\, z. ú..
URL:https://centrumcizincu.cz/akce/detsky-klubik-s-cestinou-5/2026-03-25/
LOCATION:Poradna pro integraci Ústí nad Labem\, Velká Hradební 33\, Ústí nad Labem\, 40001\, Česká republika
CATEGORIES:AKCE,Integrační aktivita,Pro děti
ATTACH;FMTTYPE=image/png:https://centrumcizincu.cz/wp-content/uploads/2025/02/sovicka.png
ORGANIZER;CN="Centrum cizinc%C5%AF":MAILTO:usti@centrumcizincu.cz
GEO:50.6622886;14.0419656
X-APPLE-STRUCTURED-LOCATION;VALUE=URI;X-ADDRESS=Poradna pro integraci Ústí nad Labem Velká Hradební 33 Ústí nad Labem 40001 Česká republika;X-APPLE-RADIUS=500;X-TITLE=Velká Hradební 33:geo:14.0419656,50.6622886
END:VEVENT
BEGIN:VEVENT
DTSTART;TZID=Europe/Prague:20260326T160000
DTEND;TZID=Europe/Prague:20260326T170000
DTSTAMP:20260420T100553
CREATED:20260223T103214Z
LAST-MODIFIED:20260312T172546Z
UID:49449-1774540800-1774544400@centrumcizincu.cz
SUMMARY:Čtení pro děti
DESCRIPTION:Centrum cizinců pořádá pro děti ČTENÍ POHÁDEK. \nAkce proběhne ve čtvrtek 26. 3. 2026 – Mach a Šebestová. \nSraz v 16:00 v PPI Ústí nad Labem\, Velká Hradební 33. \n  \nV případě zájmu o akci se prosím zaregistrujte v PPI\, Velká Hradební 33 osobně nebo na tel. čísle 777 361 457. \nNa akci budou pořizovány fotografie\, které mohou být použity za účelem propagace Poradny pro integraci\, z. ú..
URL:https://centrumcizincu.cz/akce/cteni-pro-deti-23/
LOCATION:Poradna pro integraci Ústí nad Labem\, Velká Hradební 33\, Ústí nad Labem\, 40001\, Česká republika
CATEGORIES:AKCE,Integrační aktivita,Pro děti
ATTACH;FMTTYPE=image/jpeg:https://centrumcizincu.cz/wp-content/uploads/2021/08/cteni.jpg
ORGANIZER;CN="Centrum cizinc%C5%AF":MAILTO:usti@centrumcizincu.cz
GEO:50.6622886;14.0419656
X-APPLE-STRUCTURED-LOCATION;VALUE=URI;X-ADDRESS=Poradna pro integraci Ústí nad Labem Velká Hradební 33 Ústí nad Labem 40001 Česká republika;X-APPLE-RADIUS=500;X-TITLE=Velká Hradební 33:geo:14.0419656,50.6622886
END:VEVENT
BEGIN:VEVENT
DTSTART;TZID=Europe/Prague:20260330T160000
DTEND;TZID=Europe/Prague:20260330T170000
DTSTAMP:20260420T100553
CREATED:20260223T094957Z
LAST-MODIFIED:20260223T094957Z
UID:49420-1774886400-1774890000@centrumcizincu.cz
SUMMARY:Tvořivá dílna pro děti
DESCRIPTION:Centrum cizinců zve děti na tvořivou dílnu – velikonoční slepičky. \nAkce proběhne v pondělí 30. 3. 2026. \nSraz v 16:00 v PPI (Velká Hradební 33\, Ústí nad Labem). \n  \nV případě zájmu o akci se prosím zaregistrujte na tel. čísle 777 361 457. \nNa akci budou pořizovány fotografie\, které mohou být použity za účelem propagace Poradny pro integraci\, z. ú..
URL:https://centrumcizincu.cz/akce/tvoriva-dilna-pro-deti-54/
LOCATION:Poradna pro integraci Ústí nad Labem\, Velká Hradební 33\, Ústí nad Labem\, 40001\, Česká republika
CATEGORIES:AKCE,Integrační aktivita,Pro děti
ATTACH;FMTTYPE=image/png:https://centrumcizincu.cz/wp-content/uploads/2026/02/slepicky.png
ORGANIZER;CN="Centrum cizinc%C5%AF":MAILTO:usti@centrumcizincu.cz
GEO:50.6622886;14.0419656
X-APPLE-STRUCTURED-LOCATION;VALUE=URI;X-ADDRESS=Poradna pro integraci Ústí nad Labem Velká Hradební 33 Ústí nad Labem 40001 Česká republika;X-APPLE-RADIUS=500;X-TITLE=Velká Hradební 33:geo:14.0419656,50.6622886
END:VEVENT
END:VCALENDAR